BEGIN:VCALENDAR
VERSION:2.0
PRODID:-//心斎橋ショベル - ECPv6.6.3//NONSGML v1.0//EN
CALSCALE:GREGORIAN
METHOD:PUBLISH
X-WR-CALNAME:心斎橋ショベル
X-ORIGINAL-URL:https://1469st.com
X-WR-CALDESC:心斎橋ショベル のイベント
REFRESH-INTERVAL;VALUE=DURATION:PT1H
X-Robots-Tag:noindex
X-PUBLISHED-TTL:PT1H
BEGIN:VTIMEZONE
TZID:Asia/Tokyo
BEGIN:STANDARD
TZOFFSETFROM:+0900
TZOFFSETTO:+0900
TZNAME:JST
DTSTART:20260101T000000
END:STANDARD
END:VTIMEZONE
BEGIN:VEVENT
DTSTART;TZID=Asia/Tokyo:20260429T080000
DTEND;TZID=Asia/Tokyo:20260429T170000
DTSTAMP:20260423T235255
CREATED:20260204T021803Z
LAST-MODIFIED:20260406T062900Z
UID:2013-1777449600-1777482000@1469st.com
SUMMARY:World Rock Fes.～Terima kasih～
DESCRIPTION:2026年4月29日 (水·祝)\n【会場】\n心斎橋SHOVEL \nWorld Rock Fes.～Terima kasih～ \n【Cast】\nKorenaga inc.\nCloud number 10\nサブマリンZoo\nFun’s Factory\n惜しいオズボーン \nOpen 15：00\nStart 15：30 \n【Ticket】\n¥2500\n( ＋1ドリンク代 ¥600) \nチケットは各バンド予約\n入場順は整列順
URL:https://1469st.com/event/coming-soon-14/
CATEGORIES:event
END:VEVENT
END:VCALENDAR