BEGIN:VCALENDAR
VERSION:2.0
PRODID:-//心斎橋ショベル - ECPv6.6.3//NONSGML v1.0//EN
CALSCALE:GREGORIAN
METHOD:PUBLISH
X-WR-CALNAME:心斎橋ショベル
X-ORIGINAL-URL:https://1469st.com
X-WR-CALDESC:心斎橋ショベル のイベント
REFRESH-INTERVAL;VALUE=DURATION:PT1H
X-Robots-Tag:noindex
X-PUBLISHED-TTL:PT1H
BEGIN:VTIMEZONE
TZID:Asia/Tokyo
BEGIN:STANDARD
TZOFFSETFROM:+0900
TZOFFSETTO:+0900
TZNAME:JST
DTSTART:20260101T000000
END:STANDARD
END:VTIMEZONE
BEGIN:VEVENT
DTSTART;TZID=Asia/Tokyo:20260426T080000
DTEND;TZID=Asia/Tokyo:20260426T170000
DTSTAMP:20260423T235414
CREATED:20260204T021750Z
LAST-MODIFIED:20260209T091536Z
UID:2011-1777190400-1777222800@1469st.com
SUMMARY:HARD ROCK REBELLION Vol.7
DESCRIPTION:2026年4月26日 (日)\n【会場】\n心斎橋SHOVEL \nHARD ROCK REBELLION Vol.7 \n【Cast】\n阪神Lizzy\nRising Horse\nMOT HOT CHILI POPPERS\nギャルドネス\nRadios\nD.S.I. \nOpen 16：00\nStart 16：30 \n【Ticket】\nadv・¥2500\ndoor・ ¥3000\n( ＋1ドリンク代 ¥600) \nチケットは各バンド予約\n入場順は整列順 \n・阪神Lizzy as Thin Lizzy\n・Rising Horse as Yngwie Malmsteen\n・MOT HOT CHILI POPPERS as Red Hot Chili Peppers\n・ギャルドネス as LOUDNESS\n・Radios as RAJAS\n・D.S.I. as Ozzy Osbourne
URL:https://1469st.com/event/hard-rock-rebellion-vol-7/
CATEGORIES:event
END:VEVENT
END:VCALENDAR