BEGIN:VCALENDAR
VERSION:2.0
PRODID:-//心斎橋ショベル - ECPv6.6.3//NONSGML v1.0//EN
CALSCALE:GREGORIAN
METHOD:PUBLISH
X-ORIGINAL-URL:https://1469st.com
X-WR-CALDESC:心斎橋ショベル のイベント
REFRESH-INTERVAL;VALUE=DURATION:PT1H
X-Robots-Tag:noindex
X-PUBLISHED-TTL:PT1H
BEGIN:VTIMEZONE
TZID:Asia/Tokyo
BEGIN:STANDARD
TZOFFSETFROM:+0900
TZOFFSETTO:+0900
TZNAME:JST
DTSTART:20260101T000000
END:STANDARD
END:VTIMEZONE
BEGIN:VEVENT
DTSTART;TZID=Asia/Tokyo:20260425T080000
DTEND;TZID=Asia/Tokyo:20260425T170000
DTSTAMP:20260423T235435
CREATED:20260204T021736Z
LAST-MODIFIED:20260214T005739Z
UID:2009-1777104000-1777136400@1469st.com
SUMMARY:SABER TIGER  DECISIVE TOUR 2026  大阪公演
DESCRIPTION:SABER TIGER\nDECISIVE TOUR 2026 <45th Anniversary> 大阪公演\n[ ライブ詳細 ]\n◎2026年4月25日(土)\n[会場] 大阪 SHOVEL\n[時間] 開場17:00 / 開演17:30\n[料金] オールスタンディング 前売7\,000円 / 当日7\,500円 (1Drink600円別) \n[ チケット販売 ]\n・FC先行販売：2月24日(火) 20:00 (SABER TIGER OFFICIAL SHOP)\n・一般販売：3月3日(火) 20:00 (SABER TIGER OFFICIAL SHOP)\n・プレイガイド販売：3月10日(火) 12:00（イープラス）\n■購入ページURL\nhttps://eplus.jp/sf/detail/4485200001-P0030001 \n[ 入場順 ]\n1. FC先行販売 (整理番号順)\n2. 一般販売 (整理番号順)\n3. プレイガイド販売 (整理番号順)\n4. ライブハウス予約\n5. 当日券\n※ご入場時、ライブハウス内で走ったり、無理に追い抜いたり等しない様お願いします。
URL:https://1469st.com/event/coming-soon-12/
CATEGORIES:event
END:VEVENT
END:VCALENDAR