BEGIN:VCALENDAR
VERSION:2.0
PRODID:-//心斎橋ショベル - ECPv6.6.3//NONSGML v1.0//EN
CALSCALE:GREGORIAN
METHOD:PUBLISH
X-WR-CALNAME:心斎橋ショベル
X-ORIGINAL-URL:https://1469st.com
X-WR-CALDESC:心斎橋ショベル のイベント
REFRESH-INTERVAL;VALUE=DURATION:PT1H
X-Robots-Tag:noindex
X-PUBLISHED-TTL:PT1H
BEGIN:VTIMEZONE
TZID:Asia/Tokyo
BEGIN:STANDARD
TZOFFSETFROM:+0900
TZOFFSETTO:+0900
TZNAME:JST
DTSTART:20260101T000000
END:STANDARD
END:VTIMEZONE
BEGIN:VEVENT
DTSTART;TZID=Asia/Tokyo:20260419T080000
DTEND;TZID=Asia/Tokyo:20260419T170000
DTSTAMP:20260423T235255
CREATED:20260204T021721Z
LAST-MODIFIED:20260330T075246Z
UID:2007-1776585600-1776618000@1469st.com
SUMMARY:Rosy Diamond's Resolve
DESCRIPTION:
URL:https://1469st.com/event/coming-soon-11/
CATEGORIES:event
END:VEVENT
END:VCALENDAR