BEGIN:VCALENDAR
VERSION:2.0
PRODID:-//心斎橋ショベル - ECPv6.6.3//NONSGML v1.0//EN
CALSCALE:GREGORIAN
METHOD:PUBLISH
X-ORIGINAL-URL:https://1469st.com
X-WR-CALDESC:心斎橋ショベル のイベント
REFRESH-INTERVAL;VALUE=DURATION:PT1H
X-Robots-Tag:noindex
X-PUBLISHED-TTL:PT1H
BEGIN:VTIMEZONE
TZID:Asia/Tokyo
BEGIN:STANDARD
TZOFFSETFROM:+0900
TZOFFSETTO:+0900
TZNAME:JST
DTSTART:20260101T000000
END:STANDARD
END:VTIMEZONE
BEGIN:VEVENT
DTSTART;TZID=Asia/Tokyo:20260412T080000
DTEND;TZID=Asia/Tokyo:20260412T170000
DTSTAMP:20260423T235557
CREATED:20251211T125808Z
LAST-MODIFIED:20251211T125808Z
UID:1882-1775980800-1776013200@1469st.com
SUMMARY:METAL MAYHEM OSAKA
DESCRIPTION:2026/04/12(SUN)\nMETAL MAYHEM OSAKA\n@SHINSAIBASHI SHOVEL\nOPEN 16:30 / START 17:00\nADV 3\,500yen / DOOR 4\,000yen \n＊出演＊\nGARYU\nROCKETEER\neleanor\nNACARBIDE\nLOUDSTORM
URL:https://1469st.com/event/metal-mayhem-osaka/
CATEGORIES:event
END:VEVENT
END:VCALENDAR