BEGIN:VCALENDAR
VERSION:2.0
PRODID:-//心斎橋ショベル - ECPv6.6.3//NONSGML v1.0//EN
CALSCALE:GREGORIAN
METHOD:PUBLISH
X-WR-CALNAME:心斎橋ショベル
X-ORIGINAL-URL:https://1469st.com
X-WR-CALDESC:心斎橋ショベル のイベント
REFRESH-INTERVAL;VALUE=DURATION:PT1H
X-Robots-Tag:noindex
X-PUBLISHED-TTL:PT1H
BEGIN:VTIMEZONE
TZID:Asia/Tokyo
BEGIN:STANDARD
TZOFFSETFROM:+0900
TZOFFSETTO:+0900
TZNAME:JST
DTSTART:20260101T000000
END:STANDARD
END:VTIMEZONE
BEGIN:VEVENT
DTSTART;TZID=Asia/Tokyo:20260322T133000
DTEND;TZID=Asia/Tokyo:20260322T160000
DTSTAMP:20260424T011111
CREATED:20260211T045318Z
LAST-MODIFIED:20260226T130518Z
UID:2046-1774186200-1774195200@1469st.com
SUMMARY:『POP! POP!! POP!!! in Osaka』
DESCRIPTION:『POP! POP!! POP!!! in Osaka』 \n日程: 2026年 3月 22日 (日)\n会場: 心斎橋 SHOVEL\n料金: 前方優先 ¥2\,000- / 通常一般 ¥500- / 当日各 +¥500- / 1D代別\n時間: 開場 13:30 / 開演 13:50\n出演: Panic Monster !n Wonderland / 魔訶不思議変革者-デスデス- / みらくらんど / あおぞらをキミに\n予約: https://livepocket.jp/e/pmiw-ppp-osaka \n13:50-14:10 みらくらんど\n14:10-14:30 魔訶不思議変革者-デスデス-\n14:30-14:50 あおぞらをキミに\n14:50-15:10 Panic Monster !n Wonderland\n15:10-16:10 特典会
URL:https://1469st.com/event/%e9%ad%94%e8%a8%b6%e4%b8%8d%e6%80%9d%e8%ad%b0%e3%81%82%e3%81%a9%e3%81%b9%e3%82%93%e3%81%a1%e3%82%83%e3%81%823/
CATEGORIES:event
END:VEVENT
BEGIN:VEVENT
DTSTART;TZID=Asia/Tokyo:20260322T163000
DTEND;TZID=Asia/Tokyo:20260322T190000
DTSTAMP:20260424T011111
CREATED:20260307T051448Z
LAST-MODIFIED:20260307T051448Z
UID:2107-1774197000-1774206000@1469st.com
SUMMARY:魔訶不思議あどべんちゃあ3
DESCRIPTION:魔訶不思議あどべんちゃあ3 \n2026/03/22[日] \n■会場：心斎橋SHOVEL \n■時間：OPEN/START 16:30/17:00 \n■値段：前方優先¥2\,500/通常一般¥500 [各1D別]当日＋¥500 \nhttps://livepocket.jp/e/dc1zl \n・前方特典デスカ2枚 \n・全通特典「NEET衣装集合トレカ」 \n・新規お客様特典「ロマンティックあげるよ」 \n新規の方&新規の方を連れてきたお客様にはメンバーの自己紹介カードプレゼント（サイントーク付） \n■LIVE：17:00-17:40 \n■特典会：17:40-19:00
URL:https://1469st.com/event/%e9%ad%94%e8%a8%b6%e4%b8%8d%e6%80%9d%e8%ad%b0%e3%81%82%e3%81%a9%e3%81%b9%e3%82%93%e3%81%a1%e3%82%83%e3%81%823-2/
CATEGORIES:event
END:VEVENT
BEGIN:VEVENT
DTSTART;TZID=Asia/Tokyo:20260322T193000
DTEND;TZID=Asia/Tokyo:20260322T220000
DTSTAMP:20260424T011111
CREATED:20260123T122658Z
LAST-MODIFIED:20260307T051540Z
UID:1964-1774207800-1774216800@1469st.com
SUMMARY:Panic Monster !n Wonderland『-ガオガオガオ- ツアー -大阪-』
DESCRIPTION:Panic Monster !n Wonderland『-ガオガオガオ- ツアー -大阪-』 \n日程: 2026年 3月 22日 (日)\n会場: 心斎橋 SHOVEL\n料金: 前方優先 ¥5\,000- / 通常一般 ¥2\,000- / 当日各 +¥500- / D代別\n時間: 開場 19:30 / 開演 20:00\n出演: Panic Monster !n Wonderland \n前方優先チケット特典: パニモン動物キャラ絵のランダムステッカー3枚\n物販購入特典: ¥5\,000-以上のお会計で「動物コスプレブロマイド(メンバー各1種)」ランダム1枚 \n予約: https://livepocket.jp/e/pmiw-gaogao_0322
URL:https://1469st.com/event/panic-monster-n-wonderland%e3%80%8e-%e3%82%ac%e3%82%aa%e3%82%ac%e3%82%aa%e3%82%ac%e3%82%aa-%e3%83%84%e3%82%a2%e3%83%bc-%e5%a4%a7%e9%98%aa-%e3%80%8f/
CATEGORIES:event
END:VEVENT
END:VCALENDAR