BEGIN:VCALENDAR
VERSION:2.0
PRODID:-//心斎橋ショベル - ECPv6.6.3//NONSGML v1.0//EN
CALSCALE:GREGORIAN
METHOD:PUBLISH
X-WR-CALNAME:心斎橋ショベル
X-ORIGINAL-URL:https://1469st.com
X-WR-CALDESC:心斎橋ショベル のイベント
REFRESH-INTERVAL;VALUE=DURATION:PT1H
X-Robots-Tag:noindex
X-PUBLISHED-TTL:PT1H
BEGIN:VTIMEZONE
TZID:Asia/Tokyo
BEGIN:STANDARD
TZOFFSETFROM:+0900
TZOFFSETTO:+0900
TZNAME:JST
DTSTART:20260101T000000
END:STANDARD
END:VTIMEZONE
BEGIN:VEVENT
DTSTART;TZID=Asia/Tokyo:20260307T080000
DTEND;TZID=Asia/Tokyo:20260307T170000
DTSTAMP:20260424T010906
CREATED:20260204T015800Z
LAST-MODIFIED:20260204T015800Z
UID:1983-1772870400-1772902800@1469st.com
SUMMARY:TSUNAMI LIVE GYM
DESCRIPTION:
URL:https://1469st.com/event/tsunami-live-gym/
CATEGORIES:event
END:VEVENT
END:VCALENDAR