BEGIN:VCALENDAR
VERSION:2.0
PRODID:-//心斎橋ショベル - ECPv6.6.3//NONSGML v1.0//EN
CALSCALE:GREGORIAN
METHOD:PUBLISH
X-WR-CALNAME:心斎橋ショベル
X-ORIGINAL-URL:https://1469st.com
X-WR-CALDESC:心斎橋ショベル のイベント
REFRESH-INTERVAL;VALUE=DURATION:PT1H
X-Robots-Tag:noindex
X-PUBLISHED-TTL:PT1H
BEGIN:VTIMEZONE
TZID:Asia/Tokyo
BEGIN:STANDARD
TZOFFSETFROM:+0900
TZOFFSETTO:+0900
TZNAME:JST
DTSTART:20260101T000000
END:STANDARD
END:VTIMEZONE
BEGIN:VEVENT
DTSTART;TZID=Asia/Tokyo:20260215T080000
DTEND;TZID=Asia/Tokyo:20260215T170000
DTSTAMP:20260424T024011
CREATED:20251115T065024Z
LAST-MODIFIED:20251115T065024Z
UID:1756-1771142400-1771174800@1469st.com
SUMMARY:Hare-Nochikumori×微笑end's 企画【わらくも】
DESCRIPTION:2026.02.15(日)\nSHINSAIBASHI SHOVEL\nHare-Nochikumori×微笑end’s 企画\n【わらくも】\nチケット ¥2300＋1ドリンク \n \n 
URL:https://1469st.com/event/hare-nochikumorix%e5%be%ae%e7%ac%91ends-%e4%bc%81%e7%94%bb%e3%80%90%e3%82%8f%e3%82%89%e3%81%8f%e3%82%82%e3%80%91/
CATEGORIES:event
END:VEVENT
END:VCALENDAR