BEGIN:VCALENDAR
VERSION:2.0
PRODID:-//心斎橋ショベル - ECPv6.6.3//NONSGML v1.0//EN
CALSCALE:GREGORIAN
METHOD:PUBLISH
X-WR-CALNAME:心斎橋ショベル
X-ORIGINAL-URL:https://1469st.com
X-WR-CALDESC:心斎橋ショベル のイベント
REFRESH-INTERVAL;VALUE=DURATION:PT1H
X-Robots-Tag:noindex
X-PUBLISHED-TTL:PT1H
BEGIN:VTIMEZONE
TZID:Asia/Tokyo
BEGIN:STANDARD
TZOFFSETFROM:+0900
TZOFFSETTO:+0900
TZNAME:JST
DTSTART:20260101T000000
END:STANDARD
END:VTIMEZONE
BEGIN:VEVENT
DTSTART;TZID=Asia/Tokyo:20260209T080000
DTEND;TZID=Asia/Tokyo:20260209T170000
DTSTAMP:20260424T024018
CREATED:20260206T091028Z
LAST-MODIFIED:20260205T142207Z
UID:2015-1770624000-1770656400@1469st.com
SUMMARY:アクアハーツvol.1
DESCRIPTION:日付：2月9日（月）\n表題：アクアハーツvol.1\n場所：心斎橋SHOVEL\n時間：OPEN 19:15 / START 19:30\n価格：優先¥2\,000 一般¥1\,000 当日 各種＋¥500（＋1D）\n出演者：アクアリウム。/ ゼロキョリハーツ\n※衣装交換ライブとなります。 \n予約：https://t-dv.com/vbylbQL3CfV6sQXQU4m4\n※2月6日22:00〜 \n▽タイムテーブル▽\n19:15　OPEN\n19:30-19:55　ゼロキョリハーツ\n19:55-20:20　アクアリウム。\n20:30-21:30　終演後特典会 \n【注意事項とご協力のお願い】\n※入場順：優先→一般→当日\n※当日券は＋¥500\n※再入場可\n※サーフ、モッシュ、ダイブはNG\n※天井機材は触らない触れないでください。\n※液体系UO類はNGとさせて頂きます\n※動画静止画等のレギュレーションは各演者様にはご確認ください。\n※共演者は各レギュレーション通り\n※サークル、横移動なども特に制限は設けておりませんが他のお客様の迷惑やクレームにならない常識範囲内で楽しんでもらえたら幸いです。そのような行為によりケガ・事故等発生した場合は当事者同士で協議を頂き、主催者は関与致しかねます。\n※スタッフの注意や警告をお聞き頂けない場合、ご退場をお願いすることがございます。その際のチケット代の返金等は出来兼ねますので、ご理解ご了承の程、宜しくお願い致します。\n※出演者の出演＆特典会時間はメンバーの体調不良やスケジュールの都合等の理由により、変更になる可能性がありますので予めご了承下さい。その際の返金などは一切応じられませんので予めご了承ください。\n※イベントなど開始時間、終了時間が変更になる可能性もございますので、予めご了承ください。\n※出待ち、入り待ち等、近隣の方の迷惑になる行為はお辞め下さい。
URL:https://1469st.com/event/%e3%82%a2%e3%82%af%e3%82%a2%e3%83%8f%e3%83%bc%e3%83%84vol-1/
CATEGORIES:event
END:VEVENT
END:VCALENDAR