BEGIN:VCALENDAR
VERSION:2.0
PRODID:-//心斎橋ショベル - ECPv6.6.3//NONSGML v1.0//EN
CALSCALE:GREGORIAN
METHOD:PUBLISH
X-WR-CALNAME:心斎橋ショベル
X-ORIGINAL-URL:https://1469st.com
X-WR-CALDESC:心斎橋ショベル のイベント
REFRESH-INTERVAL;VALUE=DURATION:PT1H
X-Robots-Tag:noindex
X-PUBLISHED-TTL:PT1H
BEGIN:VTIMEZONE
TZID:Asia/Tokyo
BEGIN:STANDARD
TZOFFSETFROM:+0900
TZOFFSETTO:+0900
TZNAME:JST
DTSTART:20260101T000000
END:STANDARD
END:VTIMEZONE
BEGIN:VEVENT
DTSTART;TZID=Asia/Tokyo:20260208T080000
DTEND;TZID=Asia/Tokyo:20260208T170000
DTSTAMP:20260424T023822
CREATED:20260105T063310Z
LAST-MODIFIED:20260207T121650Z
UID:1922-1770537600-1770570000@1469st.com
SUMMARY:【対牀風雪 vol.4】
DESCRIPTION:2026.02.08(日)　心斎橋SHOVEL \n【対牀風雪 vol.4】 \nOPEN/START 16:30/17:00\n前売 4\,000- /当日 4500-(w/1D) \nホンモノ\nBlacK TeaR\nRE:lNa\nLESSFEAR \n1.Tiget　https://tiget.net/events/462003\n2.各バンド予約
URL:https://1469st.com/event/%e3%80%90%e5%af%be%e7%89%80%e9%a2%a8%e9%9b%aa-vol-4%e3%80%91/
CATEGORIES:event
END:VEVENT
END:VCALENDAR