BEGIN:VCALENDAR
VERSION:2.0
PRODID:-//心斎橋ショベル - ECPv6.6.3//NONSGML v1.0//EN
CALSCALE:GREGORIAN
METHOD:PUBLISH
X-ORIGINAL-URL:https://1469st.com
X-WR-CALDESC:心斎橋ショベル のイベント
REFRESH-INTERVAL;VALUE=DURATION:PT1H
X-Robots-Tag:noindex
X-PUBLISHED-TTL:PT1H
BEGIN:VTIMEZONE
TZID:Asia/Tokyo
BEGIN:STANDARD
TZOFFSETFROM:+0900
TZOFFSETTO:+0900
TZNAME:JST
DTSTART:20260101T000000
END:STANDARD
END:VTIMEZONE
BEGIN:VEVENT
DTSTART;TZID=Asia/Tokyo:20260131T080000
DTEND;TZID=Asia/Tokyo:20260131T170000
DTSTAMP:20260424T023239
CREATED:20251031T030123Z
LAST-MODIFIED:20251105T111736Z
UID:1777-1769846400-1769878800@1469st.com
SUMMARY:Tightrope 企画第 170 弾 Tightrope Cover Band Party Vol.21
DESCRIPTION:タイトル： Tightrope 企画第 170 弾\nTightrope Cover Band Party Vol.21\n日時 ： 2026 年 1 月 31 日（Sat） OPEN 17:00 START 17:30\n会場 ： 西心斎橋 SHOVEL\n料金 ： 前売 ¥2\,500 当日 ¥3\,000 Drink 別\n出演 ： Michiaki Schimizu Group / 中村 MAIDEN / RIBERTY / AZTHEM / 惜しいオズボーン
URL:https://1469st.com/event/tightrope-%e4%bc%81%e7%94%bb%e7%ac%ac-170-%e5%bc%be-tightrope-cover-band-party-vol-21/
CATEGORIES:event
END:VEVENT
END:VCALENDAR