BEGIN:VCALENDAR
VERSION:2.0
PRODID:-//心斎橋ショベル - ECPv6.6.3//NONSGML v1.0//EN
CALSCALE:GREGORIAN
METHOD:PUBLISH
X-WR-CALNAME:心斎橋ショベル
X-ORIGINAL-URL:https://1469st.com
X-WR-CALDESC:心斎橋ショベル のイベント
REFRESH-INTERVAL;VALUE=DURATION:PT1H
X-Robots-Tag:noindex
X-PUBLISHED-TTL:PT1H
BEGIN:VTIMEZONE
TZID:Asia/Tokyo
BEGIN:STANDARD
TZOFFSETFROM:+0900
TZOFFSETTO:+0900
TZNAME:JST
DTSTART:20260101T000000
END:STANDARD
END:VTIMEZONE
BEGIN:VEVENT
DTSTART;TZID=Asia/Tokyo:20260127T080000
DTEND;TZID=Asia/Tokyo:20260127T170000
DTSTAMP:20260424T023211
CREATED:20260113T140529Z
LAST-MODIFIED:20260110T065435Z
UID:1930-1769500800-1769533200@1469st.com
SUMMARY:#PANnana-パンダの指は実は7本ある。- 火曜定期公演
DESCRIPTION:#PANnana-パンダの指は実は7本ある。- 火曜定期公演1月27日公演 \n▼日程&会場：\n1/27(火) @心斎橋SHOVEL \n▼2部制\n▼出演：#PANnana-パンダの指は実は7本ある。-／リボンのないぷれぜんと(2部のみ)／プラチナリボン(2部のみ)\n▼料金：\n１部：通常500円/当日1000円(1D別)\n２部：前方1500円/通常1000円/当日+1000円(1D別)\nhttps://livepocket.jp/e/shovel0127\n▼入場順\n1部①前売チケット整理番号順②当日券\n2部①前方チケット整理番号順②通常チケット整理番号順③当日券\n▼ゲスト(2部)\n・リボンのないぷれぜんと\n・プラチナリボン \n《タイムテーブル 》 \n17:00 スタッフ・メンバー入り\n17:30リハーサル\n17:50 1部OPEN\n18:00 START\n18:00～18:30 #PANnana\n18:30～19:20 特典会 \n19:30 2部OPEN\n19:40-20:05 リボンのないぷれぜんと\n20:05-20:30 プラチナリボン\n20:30-21:00 #PANnana\n21:00～22:00 特典会 \n22:30 完徹
URL:https://1469st.com/event/pannana-%e3%83%91%e3%83%b3%e3%83%80%e3%81%ae%e6%8c%87%e3%81%af%e5%ae%9f%e3%81%af7%e6%9c%ac%e3%81%82%e3%82%8b%e3%80%82-%e7%81%ab%e6%9b%9c%e5%ae%9a%e6%9c%9f%e5%85%ac%e6%bc%94/
CATEGORIES:event
END:VEVENT
END:VCALENDAR