BEGIN:VCALENDAR
VERSION:2.0
PRODID:-//心斎橋ショベル - ECPv6.6.3//NONSGML v1.0//EN
CALSCALE:GREGORIAN
METHOD:PUBLISH
X-WR-CALNAME:心斎橋ショベル
X-ORIGINAL-URL:https://1469st.com
X-WR-CALDESC:心斎橋ショベル のイベント
REFRESH-INTERVAL;VALUE=DURATION:PT1H
X-Robots-Tag:noindex
X-PUBLISHED-TTL:PT1H
BEGIN:VTIMEZONE
TZID:Asia/Tokyo
BEGIN:STANDARD
TZOFFSETFROM:+0900
TZOFFSETTO:+0900
TZNAME:JST
DTSTART:20260101T000000
END:STANDARD
END:VTIMEZONE
BEGIN:VEVENT
DTSTART;TZID=Asia/Tokyo:20260124T080000
DTEND;TZID=Asia/Tokyo:20260124T170000
DTSTAMP:20260424T064500
CREATED:20251022T123218Z
LAST-MODIFIED:20251022T123218Z
UID:1741-1769241600-1769274000@1469st.com
SUMMARY:True Batushka Japan Tour 2026
DESCRIPTION:2026-01-24（土） \nTrue Batushka Japan Tour 2026 \n大阪 Shinsaibashi Shovel \n開場開演\n開場18:30 公演19:00～21:00\n出演アーティスト\nБАТЮШКА(True)\nhttps://evp.jp/project/batushka26/
URL:https://1469st.com/event/true-batushka-japan-tour-2026/
CATEGORIES:event
END:VEVENT
END:VCALENDAR