BEGIN:VCALENDAR
VERSION:2.0
PRODID:-//心斎橋ショベル - ECPv6.6.3//NONSGML v1.0//EN
CALSCALE:GREGORIAN
METHOD:PUBLISH
X-WR-CALNAME:心斎橋ショベル
X-ORIGINAL-URL:https://1469st.com
X-WR-CALDESC:心斎橋ショベル のイベント
REFRESH-INTERVAL;VALUE=DURATION:PT1H
X-Robots-Tag:noindex
X-PUBLISHED-TTL:PT1H
BEGIN:VTIMEZONE
TZID:Asia/Tokyo
BEGIN:STANDARD
TZOFFSETFROM:+0900
TZOFFSETTO:+0900
TZNAME:JST
DTSTART:20250101T000000
END:STANDARD
END:VTIMEZONE
BEGIN:VEVENT
DTSTART;TZID=Asia/Tokyo:20251208T080000
DTEND;TZID=Asia/Tokyo:20251208T170000
DTSTAMP:20260422T150019
CREATED:20251106T141244Z
LAST-MODIFIED:20251106T141244Z
UID:1797-1765180800-1765213200@1469st.com
SUMMARY:Zeke Deux Christmas Tour大阪編 「Zeke Restoration-Code Number:Extra- Christmas Party2025」
DESCRIPTION:2025年12月8日(月)心斎橋SHOVEL\nZeke Deux Christmas Tour大阪編\n「Zeke Restoration-Code Number:Extra- Christmas Party2025」\nStarwave Records presents \nOPEN 16:00 / START 16:30\n前売 4\,000円 / 当日 4\,500円 (D代別) \n出演：Zeke Deux　deva:ed、GERTENA、【2nd/A】Re:bellion、BlacK TeaR \n［チケット］e+\nA：プレオーダー\n受付期間 2025/09/30(火) 12:00 ～ 2025/10/05(日) 18:00\n入金期間 2025/10/07(火) 13:00 ～ 2025/10/10(金) 21:00 \nB：一般発売\n2025/10/18(土) 10:00 ～ \n■購入ページURL\nhttps://eplus.jp/sf/detail/4408670001-P0030001\n※転売防止のため整理番号のスタートはランダムになっています。 \n《入場順》A → B → 当日券
URL:https://1469st.com/event/zeke-deux-christmas-tour%e5%a4%a7%e9%98%aa%e7%b7%a8-%e3%80%8czeke-restoration-code-numberextra-christmas-party2025%e3%80%8d/
CATEGORIES:event
END:VEVENT
END:VCALENDAR