BEGIN:VCALENDAR
VERSION:2.0
PRODID:-//心斎橋ショベル - ECPv6.6.3//NONSGML v1.0//EN
CALSCALE:GREGORIAN
METHOD:PUBLISH
X-ORIGINAL-URL:https://1469st.com
X-WR-CALDESC:心斎橋ショベル のイベント
REFRESH-INTERVAL;VALUE=DURATION:PT1H
X-Robots-Tag:noindex
X-PUBLISHED-TTL:PT1H
BEGIN:VTIMEZONE
TZID:Asia/Tokyo
BEGIN:STANDARD
TZOFFSETFROM:+0900
TZOFFSETTO:+0900
TZNAME:JST
DTSTART:20250101T000000
END:STANDARD
END:VTIMEZONE
BEGIN:VEVENT
DTSTART;TZID=Asia/Tokyo:20251124T080000
DTEND;TZID=Asia/Tokyo:20251124T170000
DTSTAMP:20260422T150520
CREATED:20250920T123406Z
LAST-MODIFIED:20250920T123406Z
UID:1687-1763971200-1764003600@1469st.com
SUMMARY:寺沢功一 低音座談会
DESCRIPTION:寺沢功一 低音座談会 \nロックベーシスト寺沢功一が、ベースのことや、アンサンブルに於けるリズムの仕組み等、音楽にまつわる話を質問形式でおしゃべりするイベントです。参加者に奏法を直接レクチャーするベースクリニック、ミニベースソロライブもあります。楽器は演奏しないけど音楽大好き！という方もぜひ参加してください。アフターパーティーもあります！ \n☆2025年11月24日（月;祝）☆\n心斎橋SHOVEL\n大阪府大阪市中央区西心斎橋2-4-17\nおおきに花月久左衛門ビル2号B1F\nTEL 06-4256-4565\nhttps://1469st.com \n前売り 4\,000円\n当日 4\,500円\n（ドリンク別 600円） \n開場 17:30\n開演 18:00 \n【ベースクリニック予約】\n直接ベースを指導されたい方は、件名に「11/24、クリニック」と明記して下記アドレスにメールでお申し込みください。先着2名様まで、別途料金はありません。\nshovel1469@gmail.com \n【アフターパーティー料金】\n2\,000円（1ドリンク、おつまみ付）\n※2ドリンク以降キャッシュオン \n【チケット予約】\n◯ホームページから予約\nhttps://1469st.com/contact-4/\n◯メールで予約\n下記メールアドレスへ、お名前、希望枚数、アフターパーティー参加の有無を明記して送ってください。\nshovel1469@gmail.com
URL:https://1469st.com/event/%e5%af%ba%e6%b2%a2%e5%8a%9f%e4%b8%80-%e4%bd%8e%e9%9f%b3%e5%ba%a7%e8%ab%87%e4%bc%9a/
CATEGORIES:event
END:VEVENT
END:VCALENDAR