BEGIN:VCALENDAR
VERSION:2.0
PRODID:-//心斎橋ショベル - ECPv6.6.3//NONSGML v1.0//EN
CALSCALE:GREGORIAN
METHOD:PUBLISH
X-ORIGINAL-URL:https://1469st.com
X-WR-CALDESC:心斎橋ショベル のイベント
REFRESH-INTERVAL;VALUE=DURATION:PT1H
X-Robots-Tag:noindex
X-PUBLISHED-TTL:PT1H
BEGIN:VTIMEZONE
TZID:Asia/Tokyo
BEGIN:STANDARD
TZOFFSETFROM:+0900
TZOFFSETTO:+0900
TZNAME:JST
DTSTART:20250101T000000
END:STANDARD
END:VTIMEZONE
BEGIN:VEVENT
DTSTART;TZID=Asia/Tokyo:20251113T080000
DTEND;TZID=Asia/Tokyo:20251113T170000
DTSTAMP:20260422T135216
CREATED:20251102T075438Z
LAST-MODIFIED:20251102T075438Z
UID:1782-1763020800-1763053200@1469st.com
SUMMARY:透明少女主催「神キャリー3」
DESCRIPTION:◆2025年11月13日(木)心斎橋SHOVEL\n透明少女主催\n「神キャリー3」 \nOPEN 16:30 / START 17:00\n前売 ¥4\,000 / 当日 ¥4\,500 \n[出演]\n透明少女\nDLESS\nRE:INa\n酒タバコご飯 \n[チケット]\n2025年10月18日(土)10:00〜e+にて発売開始https://eplus.jp/sf/detail/4409840001
URL:https://1469st.com/event/%e9%80%8f%e6%98%8e%e5%b0%91%e5%a5%b3%e4%b8%bb%e5%82%ac%e3%80%8c%e7%a5%9e%e3%82%ad%e3%83%a3%e3%83%aa%e3%83%bc3%e3%80%8d/
CATEGORIES:event
END:VEVENT
END:VCALENDAR