BEGIN:VCALENDAR
VERSION:2.0
PRODID:-//心斎橋ショベル - ECPv6.6.3//NONSGML v1.0//EN
CALSCALE:GREGORIAN
METHOD:PUBLISH
X-WR-CALNAME:心斎橋ショベル
X-ORIGINAL-URL:https://1469st.com
X-WR-CALDESC:心斎橋ショベル のイベント
REFRESH-INTERVAL;VALUE=DURATION:PT1H
X-Robots-Tag:noindex
X-PUBLISHED-TTL:PT1H
BEGIN:VTIMEZONE
TZID:Asia/Tokyo
BEGIN:STANDARD
TZOFFSETFROM:+0900
TZOFFSETTO:+0900
TZNAME:JST
DTSTART:20250101T000000
END:STANDARD
END:VTIMEZONE
BEGIN:VEVENT
DTSTART;TZID=Asia/Tokyo:20251105T080000
DTEND;TZID=Asia/Tokyo:20251105T170000
DTSTAMP:20260422T134926
CREATED:20251014T090056Z
LAST-MODIFIED:20251013T095924Z
UID:1716-1762329600-1762362000@1469st.com
SUMMARY:『水姫ひなの』mini生誕祭
DESCRIPTION:日時：2025年11月5日（水）\n公演名：『水姫ひなの』mini生誕祭\n場所：心斎橋ショベル\n時間：OPEN 18:40/START 19:00\n価格：\n①優先エリア：1\,500円 \n②一般エリア：1\,000円 \n入場：①→②チケット番号順\n※別途ドリンク代がかかります（600円） \n※当日券：＋1\,000円 \n※再入場ドリンク代がかかります。\n※撮影可否は各演者様レギュレーションの通り \nhttps://t.livepocket.jp/e/cps_u \n■出演■\nアクアリウム。 \n■タイムテーブル■\n18:40　OPEN\n19:00～19:50　アクアリウム。 \n19:50～20:00　特典会準備・換気\n20:00～21:00　終演後特典会
URL:https://1469st.com/event/%e3%80%8e%e6%b0%b4%e5%a7%ab%e3%81%b2%e3%81%aa%e3%81%ae%e3%80%8fmini%e7%94%9f%e8%aa%95%e7%a5%ad/
CATEGORIES:event
END:VEVENT
END:VCALENDAR