BEGIN:VCALENDAR
VERSION:2.0
PRODID:-//心斎橋ショベル - ECPv6.6.3//NONSGML v1.0//EN
CALSCALE:GREGORIAN
METHOD:PUBLISH
X-ORIGINAL-URL:https://1469st.com
X-WR-CALDESC:心斎橋ショベル のイベント
REFRESH-INTERVAL;VALUE=DURATION:PT1H
X-Robots-Tag:noindex
X-PUBLISHED-TTL:PT1H
BEGIN:VTIMEZONE
TZID:Asia/Tokyo
BEGIN:STANDARD
TZOFFSETFROM:+0900
TZOFFSETTO:+0900
TZNAME:JST
DTSTART:20250101T000000
END:STANDARD
END:VTIMEZONE
BEGIN:VEVENT
DTSTART;TZID=Asia/Tokyo:20251026T080000
DTEND;TZID=Asia/Tokyo:20251026T170000
DTSTAMP:20260422T122753
CREATED:20250828T175953Z
LAST-MODIFIED:20250828T175953Z
UID:1662-1761465600-1761498000@1469st.com
SUMMARY:Fate to the INSANE Vol.3
DESCRIPTION:2025年10月26日 (日)\n心斎橋SHOVEL \nFate to the INSANE Vol.3 \n【Cast】\n反町YUKI哲之 ＆ TRUE AGITATOR\nDRAGON’S EYE\n現場処理\nW-Dip-Mixx \nOpen 16：30\nStart 17：00 \n【Ticket】\nadv・¥4000\ndoor・ ¥4500\n( ＋1ドリンク代 ¥600) \n入場順\n①メール予約\n②バンド予約 \n◼️チケット予約の際に、\n・お名前(フルネーム)\n・予約枚数\n・電話番号\n・お目当てのバンド名\nを記載ください。\n(※電話番号は、同姓同名が居いらっしゃった時の為にお聞きしてます。) \n◼️お目当てのバンドは、\n①反町YUKI哲之 ＆ TRUE AGITATOR\n②DRAGON’S EYE\n③現場処理\n④W-Dip-Mixx\nから選択し記載をお願い致します。\n(番号のみ記載でも可) \n◼️チケット予約はこちら。\ntrueagitator2025@gmail.com \n◼️メールを確認次第、\n入場の際の整理番号をお送り致します。
URL:https://1469st.com/event/fate-to-the-insane-vol-3/
CATEGORIES:event
END:VEVENT
END:VCALENDAR