BEGIN:VCALENDAR
VERSION:2.0
PRODID:-//心斎橋ショベル - ECPv6.6.3//NONSGML v1.0//EN
CALSCALE:GREGORIAN
METHOD:PUBLISH
X-ORIGINAL-URL:https://1469st.com
X-WR-CALDESC:心斎橋ショベル のイベント
REFRESH-INTERVAL;VALUE=DURATION:PT1H
X-Robots-Tag:noindex
X-PUBLISHED-TTL:PT1H
BEGIN:VTIMEZONE
TZID:Asia/Tokyo
BEGIN:STANDARD
TZOFFSETFROM:+0900
TZOFFSETTO:+0900
TZNAME:JST
DTSTART:20250101T000000
END:STANDARD
END:VTIMEZONE
BEGIN:VEVENT
DTSTART;TZID=Asia/Tokyo:20251025T080000
DTEND;TZID=Asia/Tokyo:20251025T170000
DTSTAMP:20260422T122730
CREATED:20250824T064842Z
LAST-MODIFIED:20250824T064842Z
UID:1658-1761379200-1761411600@1469st.com
SUMMARY:ビーイング系セッション企画『ナウing ～あの頃を抱きしめて～』
DESCRIPTION:
URL:https://1469st.com/event/%e3%83%93%e3%83%bc%e3%82%a4%e3%83%b3%e3%82%b0%e7%b3%bb%e3%82%bb%e3%83%83%e3%82%b7%e3%83%a7%e3%83%b3%e4%bc%81%e7%94%bb%e3%80%8e%e3%83%8a%e3%82%a6ing-%ef%bd%9e%e3%81%82%e3%81%ae%e9%a0%83%e3%82%92/
CATEGORIES:event
END:VEVENT
END:VCALENDAR