BEGIN:VCALENDAR
VERSION:2.0
PRODID:-//心斎橋ショベル - ECPv6.6.3//NONSGML v1.0//EN
CALSCALE:GREGORIAN
METHOD:PUBLISH
X-WR-CALNAME:心斎橋ショベル
X-ORIGINAL-URL:https://1469st.com
X-WR-CALDESC:心斎橋ショベル のイベント
REFRESH-INTERVAL;VALUE=DURATION:PT1H
X-Robots-Tag:noindex
X-PUBLISHED-TTL:PT1H
BEGIN:VTIMEZONE
TZID:Asia/Tokyo
BEGIN:STANDARD
TZOFFSETFROM:+0900
TZOFFSETTO:+0900
TZNAME:JST
DTSTART:20250101T000000
END:STANDARD
END:VTIMEZONE
BEGIN:VEVENT
DTSTART;TZID=Asia/Tokyo:20251013T080000
DTEND;TZID=Asia/Tokyo:20251013T170000
DTSTAMP:20260422T122450
CREATED:20250824T130021Z
LAST-MODIFIED:20250821T193523Z
UID:1641-1760342400-1760374800@1469st.com
SUMMARY:ゼラ vs nurié 2MAN 『À bientôt（ア・ビヤント）』
DESCRIPTION:ゼラ vs nurié 2MAN\n『À bientôt（ア・ビヤント）』\n2025年10月13日(月祝)心斎橋SHOVEL\nOPEN18:00 / START18:30\n前売¥4\,500 / 当日¥5\,000 (D代別)\n[チケット]\ne+プレオーダー\n先行受付：2025/09/11(木) 12：00 ～ 2025/09/17(水) 23：59\n入金期間：2025/09/19(金) 13：00 ～ 2025/09/22(月) 21：00\n一般発売：2025/09/27(土) 10：00 ～\n■購入ページURL\nhttps://eplus.jp/sf/detail/4387490001-P0030001\n[出演]\nゼラ\nnurié
URL:https://1469st.com/event/%e3%82%bc%e3%83%a9-vs-nurie-2man-%e3%80%8ea-bientot%ef%bc%88%e3%82%a2%e3%83%bb%e3%83%93%e3%83%a4%e3%83%b3%e3%83%88%ef%bc%89%e3%80%8f/
CATEGORIES:event
END:VEVENT
END:VCALENDAR