BEGIN:VCALENDAR
VERSION:2.0
PRODID:-//心斎橋ショベル - ECPv6.6.3//NONSGML v1.0//EN
CALSCALE:GREGORIAN
METHOD:PUBLISH
X-ORIGINAL-URL:https://1469st.com
X-WR-CALDESC:心斎橋ショベル のイベント
REFRESH-INTERVAL;VALUE=DURATION:PT1H
X-Robots-Tag:noindex
X-PUBLISHED-TTL:PT1H
BEGIN:VTIMEZONE
TZID:Asia/Tokyo
BEGIN:STANDARD
TZOFFSETFROM:+0900
TZOFFSETTO:+0900
TZNAME:JST
DTSTART:20250101T000000
END:STANDARD
END:VTIMEZONE
BEGIN:VEVENT
DTSTART;TZID=Asia/Tokyo:20251011T080000
DTEND;TZID=Asia/Tokyo:20251011T170000
DTSTAMP:20260422T122754
CREATED:20250518T001708Z
LAST-MODIFIED:20250821T193655Z
UID:1444-1760169600-1760202000@1469st.com
SUMMARY:Rock'n music
DESCRIPTION:2025年10月11日 (土)\n心斎橋SHOVEL \n【タイトル】\nRock’n music \n【Cast】\n・Candy Rain\n・蛸殴総本山\n・PLUMUSIC\n・微笑end’s\n・トキカネ\n・Surreal Funny \nOpen 16：00\nStart 16：30 \n【Ticket】\nadv・¥2500\ndoor・ ¥3000\n( ＋1ドリンク代 ¥600) \nチケットは各バンド予約\n入場は整列順
URL:https://1469st.com/event/rockn-music/
CATEGORIES:event
END:VEVENT
END:VCALENDAR