BEGIN:VCALENDAR
VERSION:2.0
PRODID:-//心斎橋ショベル - ECPv6.6.3//NONSGML v1.0//EN
CALSCALE:GREGORIAN
METHOD:PUBLISH
X-ORIGINAL-URL:https://1469st.com
X-WR-CALDESC:心斎橋ショベル のイベント
REFRESH-INTERVAL;VALUE=DURATION:PT1H
X-Robots-Tag:noindex
X-PUBLISHED-TTL:PT1H
BEGIN:VTIMEZONE
TZID:Asia/Tokyo
BEGIN:STANDARD
TZOFFSETFROM:+0900
TZOFFSETTO:+0900
TZNAME:JST
DTSTART:20250101T000000
END:STANDARD
END:VTIMEZONE
BEGIN:VEVENT
DTSTART;TZID=Asia/Tokyo:20251005T080000
DTEND;TZID=Asia/Tokyo:20251005T170000
DTSTAMP:20260422T110639
CREATED:20250720T115653Z
LAST-MODIFIED:20250727T053931Z
UID:1598-1759651200-1759683600@1469st.com
SUMMARY:WOMEN’S POWER Vol.77〜大阪編〜
DESCRIPTION:WOMEN’S POWER Vol.77〜大阪編〜 \n2025年10月5日（日）心斎橋 SHOVEL\n●出演\nPARADOXX\nIllumina from ArkRoyal\nFullMooN\nEmpress\nSirius\nはるち ょん \n～順不同～ \n■OPEN 17:00 / START 17:30\n■前売り ￥3\,500 / (ドリンク代別)\n■当日券 ￥4\,000 / (ドリンク代別) \n[予　約]　TIGET予約 / 各バンド\n[主　催]　FLYING CAT \n【入場順】　①TIGET予約（整理番号順）→②バンド予約(整列順)→③当日券 \n※こちらのメールフォームよりお申し込みください。\n【TIGET予約URL】\n2025年7月18日（金） 18時～販売開始\nhttps://tiget.net/events/414883 \nWOMEN’S POWER HP\nhttp://womens-power.com
URL:https://1469st.com/event/womens-power-vol-77%e3%80%9c%e5%a4%a7%e9%98%aa%e7%b7%a8%e3%80%9c/
CATEGORIES:event
END:VEVENT
END:VCALENDAR