BEGIN:VCALENDAR
VERSION:2.0
PRODID:-//心斎橋ショベル - ECPv6.6.3//NONSGML v1.0//EN
CALSCALE:GREGORIAN
METHOD:PUBLISH
X-ORIGINAL-URL:https://1469st.com
X-WR-CALDESC:心斎橋ショベル のイベント
REFRESH-INTERVAL;VALUE=DURATION:PT1H
X-Robots-Tag:noindex
X-PUBLISHED-TTL:PT1H
BEGIN:VTIMEZONE
TZID:Asia/Tokyo
BEGIN:STANDARD
TZOFFSETFROM:+0900
TZOFFSETTO:+0900
TZNAME:JST
DTSTART:20250101T000000
END:STANDARD
END:VTIMEZONE
BEGIN:VEVENT
DTSTART;TZID=Asia/Tokyo:20251004T080000
DTEND;TZID=Asia/Tokyo:20251004T170000
DTSTAMP:20260422T105456
CREATED:20250807T051122Z
LAST-MODIFIED:20250807T051122Z
UID:1630-1759564800-1759597200@1469st.com
SUMMARY:HARD ROCK REBELLION Vol.5
DESCRIPTION:2025年10月4日 (土)\n【会場】\n心斎橋SHOVEL \nHARD ROCK REBELLION Vol.5 \n【Cast】\nBlack★Star\nデッドデンド\nMESOPOTAMIAN🔥 FIRE\nDark Rainbow\nNARADNESS \nOpen 17:00\nStart 17:30 \n【Ticket】\nadv・¥2500\ndoor・ ¥3000\n( ＋1ドリンク代 ¥600) \nチケットは各バンド予約\n入場順は整列順
URL:https://1469st.com/event/hard-rock-rebellion-vol-5/
CATEGORIES:event
END:VEVENT
END:VCALENDAR