BEGIN:VCALENDAR
VERSION:2.0
PRODID:-//心斎橋ショベル - ECPv6.6.3//NONSGML v1.0//EN
CALSCALE:GREGORIAN
METHOD:PUBLISH
X-WR-CALNAME:心斎橋ショベル
X-ORIGINAL-URL:https://1469st.com
X-WR-CALDESC:心斎橋ショベル のイベント
REFRESH-INTERVAL;VALUE=DURATION:PT1H
X-Robots-Tag:noindex
X-PUBLISHED-TTL:PT1H
BEGIN:VTIMEZONE
TZID:Asia/Tokyo
BEGIN:STANDARD
TZOFFSETFROM:+0900
TZOFFSETTO:+0900
TZNAME:JST
DTSTART:20250101T000000
END:STANDARD
END:VTIMEZONE
BEGIN:VEVENT
DTSTART;TZID=Asia/Tokyo:20251001T080000
DTEND;TZID=Asia/Tokyo:20251001T170000
DTSTAMP:20260422T105328
CREATED:20250924T091207Z
LAST-MODIFIED:20250924T091207Z
UID:1691-1759305600-1759338000@1469st.com
SUMMARY:Sawage！2man Free Live！vol.8
DESCRIPTION:日時：2025年10月1日（水）\n公演名：『Sawage！2man Free Live！vol.8』\n場所：心斎橋ショベル\n時間：OPEN 19:15/START 19:30\n価格：\n①優先エリア：1\,500円 \n②女性エリア：0円\n③一般エリア：0円 \n入場：①→②→③チケット番号順\n※別途ドリンク代がかかります（600円） \nhttps://t.livepocket.jp/e/poam5 \n※当日券：＋1\,000円 \n※再入場ドリンク代がかかります。\n※撮影可否は各演者様レギュレーションの通り \n  \n■出演■\nアクアリウム。\nティラミス \n■タイムテーブル■\n19:15　OPEN\n19:30～20:00　アクアリウム。\n20:00～20:30　ティラミス \n20:30～20:40　特典会準備\n20:40～21:40　終演後特典会
URL:https://1469st.com/event/sawage%ef%bc%812man-free-live%ef%bc%81vol-8/
CATEGORIES:event
END:VEVENT
END:VCALENDAR