BEGIN:VCALENDAR
VERSION:2.0
PRODID:-//心斎橋ショベル - ECPv6.6.3//NONSGML v1.0//EN
CALSCALE:GREGORIAN
METHOD:PUBLISH
X-ORIGINAL-URL:https://1469st.com
X-WR-CALDESC:心斎橋ショベル のイベント
REFRESH-INTERVAL;VALUE=DURATION:PT1H
X-Robots-Tag:noindex
X-PUBLISHED-TTL:PT1H
BEGIN:VTIMEZONE
TZID:Asia/Tokyo
BEGIN:STANDARD
TZOFFSETFROM:+0900
TZOFFSETTO:+0900
TZNAME:JST
DTSTART:20250101T000000
END:STANDARD
END:VTIMEZONE
BEGIN:VEVENT
DTSTART;TZID=Asia/Tokyo:20250928T080000
DTEND;TZID=Asia/Tokyo:20250928T170000
DTSTAMP:20260422T105715
CREATED:20250903T082918Z
LAST-MODIFIED:20250903T082918Z
UID:1673-1759046400-1759078800@1469st.com
SUMMARY:心斎橋SHOVEL pre 「歌い手たちの宴 vol.4」
DESCRIPTION:2025.9.28(日) \n心斎橋SHOVEL pre\n「歌い手たちの宴 vol.4」\n会場　心斎橋SHOVEL　　https://1469st.com \nOPEN/START 15:30/16:00\n前売 2\,000- /当日 2500-(w/1D) \n出演\nあすは\n神咲 乃蒼-Kanzaki.NoA-\nSAKI\n綾結 緋紡\nくっすん\n猫宮　柊彩\n蒼井瑠歌\neel\nriK\nMASA\nLöwe\n芙明真 \n【チケット及び入場順】\n1.前売り　Tiget 8/31 21:00より\n2.演者予約\n3.当日 \n1カメ固定のTwicas Premium配信\n配信チケット1500円
URL:https://1469st.com/event/%e5%bf%83%e6%96%8e%e6%a9%8bshovel-pre-%e3%80%8c%e6%ad%8c%e3%81%84%e6%89%8b%e3%81%9f%e3%81%a1%e3%81%ae%e5%ae%b4-vol-4%e3%80%8d/
CATEGORIES:event
END:VEVENT
END:VCALENDAR