BEGIN:VCALENDAR
VERSION:2.0
PRODID:-//心斎橋ショベル - ECPv6.6.3//NONSGML v1.0//EN
CALSCALE:GREGORIAN
METHOD:PUBLISH
X-ORIGINAL-URL:https://1469st.com
X-WR-CALDESC:心斎橋ショベル のイベント
REFRESH-INTERVAL;VALUE=DURATION:PT1H
X-Robots-Tag:noindex
X-PUBLISHED-TTL:PT1H
BEGIN:VTIMEZONE
TZID:Asia/Tokyo
BEGIN:STANDARD
TZOFFSETFROM:+0900
TZOFFSETTO:+0900
TZNAME:JST
DTSTART:20250101T000000
END:STANDARD
END:VTIMEZONE
BEGIN:VEVENT
DTSTART;TZID=Asia/Tokyo:20250924T080000
DTEND;TZID=Asia/Tokyo:20250924T170000
DTSTAMP:20260422T110656
CREATED:20250723T065150Z
LAST-MODIFIED:20250727T034130Z
UID:1600-1758700800-1758733200@1469st.com
SUMMARY:透明少女ワンマン「いい子-大阪編-」
DESCRIPTION:2025年9月24日(水)心斎橋SHOVEL\n透明少女ワンマン「いい子-大阪編-」 \nOPEN 17:30 / START 18:00\nSチケット ¥5\,000 / 当日無料 (D代別) \n[Sチケット購入特典]\n・優先入場\n・いい子ミニアクリルキーホルダー(大阪編)\n・いい子ステッカー(大阪編) \n[チケット]\n2025年8月23日(土)10:00〜e+にて発売開始\nhttps://eplus.jp/sf/detail/4373180001-P0030001
URL:https://1469st.com/event/%e9%80%8f%e6%98%8e%e5%b0%91%e5%a5%b3%e3%83%af%e3%83%b3%e3%83%9e%e3%83%b3%e3%80%8c%e3%81%84%e3%81%84%e5%ad%90-%e5%a4%a7%e9%98%aa%e7%b7%a8-%e3%80%8d/
CATEGORIES:event
END:VEVENT
END:VCALENDAR