BEGIN:VCALENDAR
VERSION:2.0
PRODID:-//心斎橋ショベル - ECPv6.6.3//NONSGML v1.0//EN
CALSCALE:GREGORIAN
METHOD:PUBLISH
X-ORIGINAL-URL:https://1469st.com
X-WR-CALDESC:心斎橋ショベル のイベント
REFRESH-INTERVAL;VALUE=DURATION:PT1H
X-Robots-Tag:noindex
X-PUBLISHED-TTL:PT1H
BEGIN:VTIMEZONE
TZID:Asia/Tokyo
BEGIN:STANDARD
TZOFFSETFROM:+0900
TZOFFSETTO:+0900
TZNAME:JST
DTSTART:20250101T000000
END:STANDARD
END:VTIMEZONE
BEGIN:VEVENT
DTSTART;TZID=Asia/Tokyo:20250907T080000
DTEND;TZID=Asia/Tokyo:20250907T170000
DTSTAMP:20260422T105639
CREATED:20250527T112331Z
LAST-MODIFIED:20250816T014538Z
UID:1465-1757232000-1757264400@1469st.com
SUMMARY:CASTLE OF ROCK vol.9
DESCRIPTION:ASIAN BLACKが高橋ロジャー和久氏の体調を考慮して出演不可となりました。\n出演中止発表直後に”ロジャーさんのピンチには僕しか居てないやろ！”とOZMAさんから漢気たっぷりの連絡頂きまして、OZMA-Xの緊急参戦が決まりました！！\nASIAN BLACKメンバー、そしてOZMAさんのロジャーさんに対する硬い絆に感動しております。\n若干詳細内容は変わりましたが皆様是非お越しください！！ \n2025年9月7日(日)\nCASTLE OF ROCK vol.9\n@心斎橋SHOVEL\nOPEN 16:30 / START 17:30\nADV ￥3\,000 / DOOR ￥3\,500(+1Drink ￥600)\n※チケット予約は各バンド迄お願い致します。 \n出演\nOZMA-X ←緊急参戦!!\nSilver Wings\nKNOCK’EM DEAD
URL:https://1469st.com/event/castle-of-rock-vol-9/
CATEGORIES:event
END:VEVENT
END:VCALENDAR