BEGIN:VCALENDAR
VERSION:2.0
PRODID:-//心斎橋ショベル - ECPv6.6.3//NONSGML v1.0//EN
CALSCALE:GREGORIAN
METHOD:PUBLISH
X-WR-CALNAME:心斎橋ショベル
X-ORIGINAL-URL:https://1469st.com
X-WR-CALDESC:心斎橋ショベル のイベント
REFRESH-INTERVAL;VALUE=DURATION:PT1H
X-Robots-Tag:noindex
X-PUBLISHED-TTL:PT1H
BEGIN:VTIMEZONE
TZID:Asia/Tokyo
BEGIN:STANDARD
TZOFFSETFROM:+0900
TZOFFSETTO:+0900
TZNAME:JST
DTSTART:20250101T000000
END:STANDARD
END:VTIMEZONE
BEGIN:VEVENT
DTSTART;TZID=Asia/Tokyo:20250830T080000
DTEND;TZID=Asia/Tokyo:20250830T170000
DTSTAMP:20260422T092215
CREATED:20250509T163621Z
LAST-MODIFIED:20250720T113653Z
UID:1430-1756540800-1756573200@1469st.com
SUMMARY:心斎橋HARD NIGHT
DESCRIPTION:2025/08/30(SAT)\n心斎橋HARD NIGHT\n＠心斎橋SHOVEL\nADV ￥2\,500 / DOOR ￥3\,000\nOPEN 16:30 / START 17:00 \nACT\nIRON MEISON\nBED ZETTULIN\nRadios\n惜しいオズボーン\n全日本平日撤廃党
URL:https://1469st.com/event/%e5%bf%83%e6%96%8e%e6%a9%8bhard-night/
CATEGORIES:event
END:VEVENT
END:VCALENDAR