BEGIN:VCALENDAR
VERSION:2.0
PRODID:-//心斎橋ショベル - ECPv6.6.3//NONSGML v1.0//EN
CALSCALE:GREGORIAN
METHOD:PUBLISH
X-WR-CALNAME:心斎橋ショベル
X-ORIGINAL-URL:https://1469st.com
X-WR-CALDESC:心斎橋ショベル のイベント
REFRESH-INTERVAL;VALUE=DURATION:PT1H
X-Robots-Tag:noindex
X-PUBLISHED-TTL:PT1H
BEGIN:VTIMEZONE
TZID:Asia/Tokyo
BEGIN:STANDARD
TZOFFSETFROM:+0900
TZOFFSETTO:+0900
TZNAME:JST
DTSTART:20250101T000000
END:STANDARD
END:VTIMEZONE
BEGIN:VEVENT
DTSTART;TZID=Asia/Tokyo:20250823T080000
DTEND;TZID=Asia/Tokyo:20250823T170000
DTSTAMP:20260422T091615
CREATED:20250716T151126Z
LAST-MODIFIED:20250717T161222Z
UID:1574-1755936000-1755968400@1469st.com
SUMMARY:"JAPANの魂-TAMASHII-"
DESCRIPTION:2025年8月23日(土)\n“JAPANの魂-TAMASHII-” \nOPEN 16:30 /START 17:00\nADV 2\,500yen / DOOR 3\,000yen\n＋1Drink 600yen \n-出演- \nVERGINE\nGAMBLER\nVioletia\n伊右衛門\n爆威
URL:https://1469st.com/event/japan%e3%81%ae%e9%ad%82-tamashii/
CATEGORIES:event
END:VEVENT
END:VCALENDAR