BEGIN:VCALENDAR
VERSION:2.0
PRODID:-//心斎橋ショベル - ECPv6.6.3//NONSGML v1.0//EN
CALSCALE:GREGORIAN
METHOD:PUBLISH
X-WR-CALNAME:心斎橋ショベル
X-ORIGINAL-URL:https://1469st.com
X-WR-CALDESC:心斎橋ショベル のイベント
REFRESH-INTERVAL;VALUE=DURATION:PT1H
X-Robots-Tag:noindex
X-PUBLISHED-TTL:PT1H
BEGIN:VTIMEZONE
TZID:Asia/Tokyo
BEGIN:STANDARD
TZOFFSETFROM:+0900
TZOFFSETTO:+0900
TZNAME:JST
DTSTART:20250101T000000
END:STANDARD
END:VTIMEZONE
BEGIN:VEVENT
DTSTART;TZID=Asia/Tokyo:20250727T080000
DTEND;TZID=Asia/Tokyo:20250727T170000
DTSTAMP:20260422T080211
CREATED:20250703T154247Z
LAST-MODIFIED:20250703T154247Z
UID:1545-1753603200-1753635600@1469st.com
SUMMARY:白夜の契 始動主催 『第一夜 初契-Hatsugi-』【大阪編】
DESCRIPTION:2025/7/27(日)\n心斎橋SHOVEL\n開場 16:00　/ 開演 16:30\n前売 ￥3\,500 / 当日 ￥4\,000 (D代別)\nhttps://t.livepocket.jp/e/7vfnt \n世界一の変態アングラーこと、明日ツララ率いる\n新ガールズバンド【白夜の契】がついに始動 \n白夜の契、始動主催ツアー\n白夜の契 始動主催 『第一夜 初契-Hatsugi-』【大阪編】 \n【出演】\n白夜の契\n終音☆眠\nにゃんにゃん倶楽部\nMIKADO\nMiNO
URL:https://1469st.com/event/%e7%99%bd%e5%a4%9c%e3%81%ae%e5%a5%91-%e5%a7%8b%e5%8b%95%e4%b8%bb%e5%82%ac-%e3%80%8e%e7%ac%ac%e4%b8%80%e5%a4%9c-%e5%88%9d%e5%a5%91-hatsugi-%e3%80%8f%e3%80%90%e5%a4%a7%e9%98%aa%e7%b7%a8%e3%80%91/
CATEGORIES:event
END:VEVENT
END:VCALENDAR