BEGIN:VCALENDAR
VERSION:2.0
PRODID:-//心斎橋ショベル - ECPv6.6.3//NONSGML v1.0//EN
CALSCALE:GREGORIAN
METHOD:PUBLISH
X-ORIGINAL-URL:https://1469st.com
X-WR-CALDESC:心斎橋ショベル のイベント
REFRESH-INTERVAL;VALUE=DURATION:PT1H
X-Robots-Tag:noindex
X-PUBLISHED-TTL:PT1H
BEGIN:VTIMEZONE
TZID:Asia/Tokyo
BEGIN:STANDARD
TZOFFSETFROM:+0900
TZOFFSETTO:+0900
TZNAME:JST
DTSTART:20250101T000000
END:STANDARD
END:VTIMEZONE
BEGIN:VEVENT
DTSTART;TZID=Asia/Tokyo:20250720T080000
DTEND;TZID=Asia/Tokyo:20250720T170000
DTSTAMP:20260422T080436
CREATED:20250418T141638Z
LAST-MODIFIED:20250418T141638Z
UID:1382-1752998400-1753030800@1469st.com
SUMMARY:CASTLE OF ROCK vol.8
DESCRIPTION:2025年7月20日(日)\nCASTLE OF ROCK vol.8\n会場：心斎橋SHOVEL\n開場 16:30 開演 17:00\n予約 3\,000円+1drink 600円\n当日 3\,500円+1drink 600円\n出演\nRoyal Demon Seed\nBENZY\nBRAND NEW PAGE\nthe DAMNband\nDRAGON’S EYE
URL:https://1469st.com/event/castle-of-rock-vol-8/
CATEGORIES:event
END:VEVENT
END:VCALENDAR