BEGIN:VCALENDAR
VERSION:2.0
PRODID:-//心斎橋ショベル - ECPv6.6.3//NONSGML v1.0//EN
CALSCALE:GREGORIAN
METHOD:PUBLISH
X-WR-CALNAME:心斎橋ショベル
X-ORIGINAL-URL:https://1469st.com
X-WR-CALDESC:心斎橋ショベル のイベント
REFRESH-INTERVAL;VALUE=DURATION:PT1H
X-Robots-Tag:noindex
X-PUBLISHED-TTL:PT1H
BEGIN:VTIMEZONE
TZID:Asia/Tokyo
BEGIN:STANDARD
TZOFFSETFROM:+0900
TZOFFSETTO:+0900
TZNAME:JST
DTSTART:20250101T000000
END:STANDARD
END:VTIMEZONE
BEGIN:VEVENT
DTSTART;TZID=Asia/Tokyo:20250713T080000
DTEND;TZID=Asia/Tokyo:20250713T170000
DTSTAMP:20260422T080313
CREATED:20250702T135702Z
LAST-MODIFIED:20250702T135702Z
UID:1520-1752393600-1752426000@1469st.com
SUMMARY:アクアリウム。PRESENTS『水槽幻想』
DESCRIPTION:日時：2025年7月13日（日）\n公演名：アクアリウム。pre.『水槽幻想』\n場所：心斎橋ショベル\n時間：OPEN 15:15/START 15:30価格：\n①優先：2\,000円\n②一般エリア：500円\n③当日：各チケット＋1\,000円 \n入場：①→②→③チケット番号順\n※別途ドリンク代がかかります（600円）\n※当日券：＋1\,000円\n※再入場ドリンク代がかかります。\n※全曲撮影可能（NG不可の場合はMCで告知します） \n■出演■\nアクアリウム。 \n■タイムテーブル■\n15:15　OPEN\n15:30～16:00　アクアリウム。\n16:00～16:00　特典会準備\n16:10～17:00　特典会
URL:https://1469st.com/event/%e3%82%a2%e3%82%af%e3%82%a2%e3%83%aa%e3%82%a6%e3%83%a0%e3%80%82presents%e3%80%8e%e6%b0%b4%e6%a7%bd%e5%b9%bb%e6%83%b3%e3%80%8f/
CATEGORIES:event
END:VEVENT
BEGIN:VEVENT
DTSTART;TZID=Asia/Tokyo:20250713T173000
DTEND;TZID=Asia/Tokyo:20250713T220000
DTSTAMP:20260422T080313
CREATED:20250703T153142Z
LAST-MODIFIED:20250703T153142Z
UID:1537-1752427800-1752444000@1469st.com
SUMMARY:残響～echoes of aquarium～
DESCRIPTION:日時：2025年7月13日（日）\n公演名：残響～echoes of aquarium～\n場所：心斎橋ショベル\n時間：OPEN 19:10/START 19:30\nhttps://t.livepocket.jp/e/2i1yp\n価格：\n①前売り：2\,000円\n②当日：3\,000円 \n入場：チケット番号順\n※別途ドリンク代がかかります（600円）\n※再入場ドリンク代がかかります。\n※アクアリウム。撮影可能（カバー曲は不可） \n■出演■\n天女神楽\nアクアリウム。 \n■タイムテーブル■\n19:10　OPEN\n19:30～20:00　天女神楽\n20:00～20:10　転換＆調整時間\n10:10～20:55　アクアリウム。\n20:55～21:00　特典会準備\n21:00～22:00　終演後特典会
URL:https://1469st.com/event/%e6%ae%8b%e9%9f%bf%ef%bd%9eechoes-of-aquarium%ef%bd%9e/
CATEGORIES:event
END:VEVENT
END:VCALENDAR