BEGIN:VCALENDAR
VERSION:2.0
PRODID:-//心斎橋ショベル - ECPv6.6.3//NONSGML v1.0//EN
CALSCALE:GREGORIAN
METHOD:PUBLISH
X-ORIGINAL-URL:https://1469st.com
X-WR-CALDESC:心斎橋ショベル のイベント
REFRESH-INTERVAL;VALUE=DURATION:PT1H
X-Robots-Tag:noindex
X-PUBLISHED-TTL:PT1H
BEGIN:VTIMEZONE
TZID:Asia/Tokyo
BEGIN:STANDARD
TZOFFSETFROM:+0900
TZOFFSETTO:+0900
TZNAME:JST
DTSTART:20250101T000000
END:STANDARD
END:VTIMEZONE
BEGIN:VEVENT
DTSTART;TZID=Asia/Tokyo:20250704T080000
DTEND;TZID=Asia/Tokyo:20250704T170000
DTSTAMP:20260422T060820
CREATED:20250702T135533Z
LAST-MODIFIED:20250702T135542Z
UID:1528-1751616000-1751648400@1469st.com
SUMMARY:Sawage！2man Free Live！vol.4
DESCRIPTION:日時：2025年7月4日（金）\n公演名：『Sawage！2man Free Live！vol.4』\n場所：心斎橋ショベル\n時間：OPEN 19:15/START 19:30\nhttps://t.livepocket.jp/e/bv5o8\n価格：\n①最前マサイ専用（7枚）：2\,000円\n②女性エリア：0円\n③一般エリア：0円\n④当日：1\,000円 \n入場：①→②→③→④チケット番号順\n※別途ドリンク代がかかります（600円）\n※当日券：＋1\,000円\n※再入場ドリンク代がかかります。\n※撮影可否は各演者様レギュレーションの通り \n■出演■\nアクアリウム。\nボクセカ \n■タイムテーブル■\n19:15　OPEN\n19:30～20:00　ボクセカ\n20:00～20:30　アクアリウム。\n20:30～20:40　特典会準備\n20:40～21:40　終演後特典会
URL:https://1469st.com/event/sawage%ef%bc%812man-free-live%ef%bc%81vol-4/
CATEGORIES:event
END:VEVENT
END:VCALENDAR