BEGIN:VCALENDAR
VERSION:2.0
PRODID:-//心斎橋ショベル - ECPv6.6.3//NONSGML v1.0//EN
CALSCALE:GREGORIAN
METHOD:PUBLISH
X-WR-CALNAME:心斎橋ショベル
X-ORIGINAL-URL:https://1469st.com
X-WR-CALDESC:心斎橋ショベル のイベント
REFRESH-INTERVAL;VALUE=DURATION:PT1H
X-Robots-Tag:noindex
X-PUBLISHED-TTL:PT1H
BEGIN:VTIMEZONE
TZID:Asia/Tokyo
BEGIN:STANDARD
TZOFFSETFROM:+0900
TZOFFSETTO:+0900
TZNAME:JST
DTSTART:20250101T000000
END:STANDARD
END:VTIMEZONE
BEGIN:VEVENT
DTSTART;TZID=Asia/Tokyo:20250628T080000
DTEND;TZID=Asia/Tokyo:20250628T170000
DTSTAMP:20260422T061450
CREATED:20250511T120528Z
LAST-MODIFIED:20250509T163336Z
UID:1427-1751097600-1751130000@1469st.com
SUMMARY:対牀風雪 vol.3
DESCRIPTION:2025.06.28(土)　心斎橋SHOVEL \n【対牀風雪 vol.3】 \nOPEN/START 16:30/17:00\n前売 4\,000- /当日 4500-(w/1D) \nDLESS\nBLACK GROW BERRY\n邪恋\nルヴィーユ\nクリッククラック \n入場順\n1.Tiget　5/25 22:00〜\n2.当日
URL:https://1469st.com/event/%e5%af%be%e7%89%80%e9%a2%a8%e9%9b%aa-vol-3/
CATEGORIES:event
END:VEVENT
END:VCALENDAR