BEGIN:VCALENDAR
VERSION:2.0
PRODID:-//心斎橋ショベル - ECPv6.6.3//NONSGML v1.0//EN
CALSCALE:GREGORIAN
METHOD:PUBLISH
X-ORIGINAL-URL:https://1469st.com
X-WR-CALDESC:心斎橋ショベル のイベント
REFRESH-INTERVAL;VALUE=DURATION:PT1H
X-Robots-Tag:noindex
X-PUBLISHED-TTL:PT1H
BEGIN:VTIMEZONE
TZID:Asia/Tokyo
BEGIN:STANDARD
TZOFFSETFROM:+0900
TZOFFSETTO:+0900
TZNAME:JST
DTSTART:20250101T000000
END:STANDARD
END:VTIMEZONE
BEGIN:VEVENT
DTSTART;TZID=Asia/Tokyo:20250622T080000
DTEND;TZID=Asia/Tokyo:20250622T170000
DTSTAMP:20260422T061927
CREATED:20250508T153950Z
LAST-MODIFIED:20250508T170107Z
UID:1423-1750579200-1750611600@1469st.com
SUMMARY:Cloud number 10 Live Event "The Fes Clouded Over !"
DESCRIPTION:2025/6/22(SUN)\n@SHINSAIBASHI SHOVEL\nCloud number 10 Live Event\nThe Fes Clouded Over ! \nOPEN 16:30 / START 17:00\nADV ￥2\,500 / DOOR ￥3\,000 +1Drink ￥600 \n-act-\nメタルイカ\nM.F.P\nTheKOKO\nL’atelier (ラテリエ)\nCloud number 10
URL:https://1469st.com/event/cloud-number-10-live-event-the-fes-clouded-over/
CATEGORIES:event
END:VEVENT
END:VCALENDAR