BEGIN:VCALENDAR
VERSION:2.0
PRODID:-//心斎橋ショベル - ECPv6.6.3//NONSGML v1.0//EN
CALSCALE:GREGORIAN
METHOD:PUBLISH
X-ORIGINAL-URL:https://1469st.com
X-WR-CALDESC:心斎橋ショベル のイベント
REFRESH-INTERVAL;VALUE=DURATION:PT1H
X-Robots-Tag:noindex
X-PUBLISHED-TTL:PT1H
BEGIN:VTIMEZONE
TZID:Asia/Tokyo
BEGIN:STANDARD
TZOFFSETFROM:+0900
TZOFFSETTO:+0900
TZNAME:JST
DTSTART:20250101T000000
END:STANDARD
END:VTIMEZONE
BEGIN:VEVENT
DTSTART;TZID=Asia/Tokyo:20250608T080000
DTEND;TZID=Asia/Tokyo:20250608T170000
DTSTAMP:20260422T063347
CREATED:20250208T065916Z
LAST-MODIFIED:20250208T065916Z
UID:1206-1749369600-1749402000@1469st.com
SUMMARY:"GENERATION's 8090"
DESCRIPTION:2025.6.8.sun\n“GENERATION’s 8090”\n心斎橋SHOVEL\nAdv.2\,500円 Door.3\,000円\n(＋1D600円)\nOPEN.13:30\nSTART.14:00 \n-ACT-\nわがままエイリアンズ\n(BARBEE BOYS tribute)\nBECCAKU\n(REBECCA tribute)\nWOØWYボウイ\n(BOØWY tribute)\nモーLet’s プリンセス\n(PRINCESS PRINCESS tribute)
URL:https://1469st.com/event/generations-8090/
CATEGORIES:event
END:VEVENT
END:VCALENDAR