BEGIN:VCALENDAR
VERSION:2.0
PRODID:-//心斎橋ショベル - ECPv6.6.3//NONSGML v1.0//EN
CALSCALE:GREGORIAN
METHOD:PUBLISH
X-WR-CALNAME:心斎橋ショベル
X-ORIGINAL-URL:https://1469st.com
X-WR-CALDESC:心斎橋ショベル のイベント
REFRESH-INTERVAL;VALUE=DURATION:PT1H
X-Robots-Tag:noindex
X-PUBLISHED-TTL:PT1H
BEGIN:VTIMEZONE
TZID:Asia/Tokyo
BEGIN:STANDARD
TZOFFSETFROM:+0900
TZOFFSETTO:+0900
TZNAME:JST
DTSTART:20250101T000000
END:STANDARD
END:VTIMEZONE
BEGIN:VEVENT
DTSTART;TZID=Asia/Tokyo:20250607T080000
DTEND;TZID=Asia/Tokyo:20250607T170000
DTSTAMP:20260422T060814
CREATED:20250311T032534Z
LAST-MODIFIED:20250412T101351Z
UID:1310-1749283200-1749315600@1469st.com
SUMMARY:ゅこフェス vol.3 -当方ゅこ(43)ばっかり-
DESCRIPTION:2025.06.07(土)心斎橋SHOVEL \nゅこフェス vol.3 -当方ゅこ(43)ばっかり- \nOPEN 12:30 / START 13:00\nADV 2\,000yen / DOOR 2\,500yen +1DRINK 600yen \n出演者\n・ゅーこりん\n・BANDOLDOLL\n・JAMUUU\n・微笑end’s\n・ゅーこ林檎\n・原液🤍ガールズ&Acoustic\n・ゅこカフェ\n・SCANDOLL\n・チナマリ
URL:https://1469st.com/event/%e3%82%85%e3%81%93%e3%83%95%e3%82%a7%e3%82%b9-vol-3-%e5%bd%93%e6%96%b9%e3%82%85%e3%81%9343%e3%81%b0%e3%81%a3%e3%81%8b%e3%82%8a/
CATEGORIES:event
END:VEVENT
END:VCALENDAR