BEGIN:VCALENDAR
VERSION:2.0
PRODID:-//心斎橋ショベル - ECPv6.6.3//NONSGML v1.0//EN
CALSCALE:GREGORIAN
METHOD:PUBLISH
X-WR-CALNAME:心斎橋ショベル
X-ORIGINAL-URL:https://1469st.com
X-WR-CALDESC:心斎橋ショベル のイベント
REFRESH-INTERVAL;VALUE=DURATION:PT1H
X-Robots-Tag:noindex
X-PUBLISHED-TTL:PT1H
BEGIN:VTIMEZONE
TZID:Asia/Tokyo
BEGIN:STANDARD
TZOFFSETFROM:+0900
TZOFFSETTO:+0900
TZNAME:JST
DTSTART:20250101T000000
END:STANDARD
END:VTIMEZONE
BEGIN:VEVENT
DTSTART;TZID=Asia/Tokyo:20250511T080000
DTEND;TZID=Asia/Tokyo:20250511T170000
DTSTAMP:20260423T205738
CREATED:20250418T135054Z
LAST-MODIFIED:20250418T135054Z
UID:1378-1746950400-1746982800@1469st.com
SUMMARY:Live in the moment
DESCRIPTION:【Live in the moment】\n◇日時\n▶︎2025年 5月11日(日)\nopen/17:00〜\nstart/17:30〜 \n◇場所\n▶︎心斎橋shovel \n◇チケット\n▶︎2000円+1ドリンク(600円) \n◇出演(五十音順に記載してます)\n▶︎気まぐれカメレオン\n▶︎STARSHÏP3OØ1\n▶︎DOØWY\n▶︎Rabbits
URL:https://1469st.com/event/live-in-the-moment/
CATEGORIES:event
END:VEVENT
END:VCALENDAR