BEGIN:VCALENDAR
VERSION:2.0
PRODID:-//心斎橋ショベル - ECPv6.6.3//NONSGML v1.0//EN
CALSCALE:GREGORIAN
METHOD:PUBLISH
X-ORIGINAL-URL:https://1469st.com
X-WR-CALDESC:心斎橋ショベル のイベント
REFRESH-INTERVAL;VALUE=DURATION:PT1H
X-Robots-Tag:noindex
X-PUBLISHED-TTL:PT1H
BEGIN:VTIMEZONE
TZID:Asia/Tokyo
BEGIN:STANDARD
TZOFFSETFROM:+0900
TZOFFSETTO:+0900
TZNAME:JST
DTSTART:20250101T000000
END:STANDARD
END:VTIMEZONE
BEGIN:VEVENT
DTSTART;TZID=Asia/Tokyo:20250506T080000
DTEND;TZID=Asia/Tokyo:20250506T170000
DTSTAMP:20260422T045329
CREATED:20250214T053433Z
LAST-MODIFIED:20250214T053433Z
UID:1222-1746518400-1746550800@1469st.com
SUMMARY:CRAZEセッション
DESCRIPTION:CRAZEセッション\n5月6日(火祝)心斎橋SHOVEL\n13時開場\n14時開演\n3\,000円(1d込み)
URL:https://1469st.com/event/craze%e3%82%bb%e3%83%83%e3%82%b7%e3%83%a7%e3%83%b3/
CATEGORIES:event
END:VEVENT
END:VCALENDAR