BEGIN:VCALENDAR
VERSION:2.0
PRODID:-//心斎橋ショベル - ECPv6.6.3//NONSGML v1.0//EN
CALSCALE:GREGORIAN
METHOD:PUBLISH
X-WR-CALNAME:心斎橋ショベル
X-ORIGINAL-URL:https://1469st.com
X-WR-CALDESC:心斎橋ショベル のイベント
REFRESH-INTERVAL;VALUE=DURATION:PT1H
X-Robots-Tag:noindex
X-PUBLISHED-TTL:PT1H
BEGIN:VTIMEZONE
TZID:Asia/Tokyo
BEGIN:STANDARD
TZOFFSETFROM:+0900
TZOFFSETTO:+0900
TZNAME:JST
DTSTART:20250101T000000
END:STANDARD
END:VTIMEZONE
BEGIN:VEVENT
DTSTART;TZID=Asia/Tokyo:20250222T080000
DTEND;TZID=Asia/Tokyo:20250222T170000
DTSTAMP:20260422T095131
CREATED:20250114T153005Z
LAST-MODIFIED:20250114T153005Z
UID:1136-1740211200-1740243600@1469st.com
SUMMARY:『畜生爛漫』
DESCRIPTION:2025/2/22 \n大阪心斎橋SHOVEL \n『畜生爛漫』\nADV2000/DOOR2500\nopen18:30/start19:00 \nvicious\n鬼門\nREDZONE（姫路）\nVAX TRAIL
URL:https://1469st.com/event/%e3%80%8e%e7%95%9c%e7%94%9f%e7%88%9b%e6%bc%ab%e3%80%8f/
CATEGORIES:event
END:VEVENT
END:VCALENDAR