BEGIN:VCALENDAR
VERSION:2.0
PRODID:-//心斎橋ショベル - ECPv6.6.3//NONSGML v1.0//EN
CALSCALE:GREGORIAN
METHOD:PUBLISH
X-WR-CALNAME:心斎橋ショベル
X-ORIGINAL-URL:https://1469st.com
X-WR-CALDESC:心斎橋ショベル のイベント
REFRESH-INTERVAL;VALUE=DURATION:PT1H
X-Robots-Tag:noindex
X-PUBLISHED-TTL:PT1H
BEGIN:VTIMEZONE
TZID:Asia/Tokyo
BEGIN:STANDARD
TZOFFSETFROM:+0900
TZOFFSETTO:+0900
TZNAME:JST
DTSTART:20250101T000000
END:STANDARD
END:VTIMEZONE
BEGIN:VEVENT
DTSTART;TZID=Asia/Tokyo:20250215T080000
DTEND;TZID=Asia/Tokyo:20250215T170000
DTSTAMP:20260422T095131
CREATED:20250108T145000Z
LAST-MODIFIED:20250108T152055Z
UID:1125-1739606400-1739638800@1469st.com
SUMMARY:必見！スリーマンコピー対決！！
DESCRIPTION:REBECCA VS BOWWY VS JUDY&MARY \n必見！スリーマンコピー対決！！ \n日時　2025/2/15\n場所　心斎橋SHOVEL\nOPEN 17:30 / START 18:00\nADV/DOOR 2500円+1DRINK600円 \nACT.\nUP TO DATE\nWOOWY\nJUDY＆MURY
URL:https://1469st.com/event/%e5%bf%85%e8%a6%8b%ef%bc%81%e3%82%b9%e3%83%aa%e3%83%bc%e3%83%9e%e3%83%b3%e3%82%b3%e3%83%94%e3%83%bc%e5%af%be%e6%b1%ba%ef%bc%81%ef%bc%81/
CATEGORIES:event
END:VEVENT
END:VCALENDAR