BEGIN:VCALENDAR
VERSION:2.0
PRODID:-//心斎橋ショベル - ECPv6.6.3//NONSGML v1.0//EN
CALSCALE:GREGORIAN
METHOD:PUBLISH
X-ORIGINAL-URL:https://1469st.com
X-WR-CALDESC:心斎橋ショベル のイベント
REFRESH-INTERVAL;VALUE=DURATION:PT1H
X-Robots-Tag:noindex
X-PUBLISHED-TTL:PT1H
BEGIN:VTIMEZONE
TZID:Asia/Tokyo
BEGIN:STANDARD
TZOFFSETFROM:+0900
TZOFFSETTO:+0900
TZNAME:JST
DTSTART:20250101T000000
END:STANDARD
END:VTIMEZONE
BEGIN:VEVENT
DTSTART;TZID=Asia/Tokyo:20250126T080000
DTEND;TZID=Asia/Tokyo:20250126T170000
DTSTAMP:20260422T112443
CREATED:20250115T130201Z
LAST-MODIFIED:20250115T130005Z
UID:1141-1737878400-1737910800@1469st.com
SUMMARY:碧衣ゆる生誕祭2025
DESCRIPTION:【公演名】碧衣ゆる生誕祭2025\n【日程】1/26(日)\n【時間】開場18:30 / 開演19:00\n【会場】心斎橋SHOVEL\n【料金】Sチケット（集合写メ付き）5000円 / Aチケット500円 / 当日券各+1000円 (各+1D別)\n【入場】①Sチケット（整理番号順）→②Aチケット（整理番号順）→③当日券（当日整列順）\n【出演】ボクセカ\n【チケット】https://t.livepocket.jp/e/yuru2025\n（1/16 22時30分〜開演時間まで Livepocketにて前売販売）
URL:https://1469st.com/event/%e7%a2%a7%e8%a1%a3%e3%82%86%e3%82%8b%e7%94%9f%e8%aa%95%e7%a5%ad2025/
CATEGORIES:event
END:VEVENT
END:VCALENDAR