BEGIN:VCALENDAR
VERSION:2.0
PRODID:-//心斎橋ショベル - ECPv6.6.3//NONSGML v1.0//EN
CALSCALE:GREGORIAN
METHOD:PUBLISH
X-WR-CALNAME:心斎橋ショベル
X-ORIGINAL-URL:https://1469st.com
X-WR-CALDESC:心斎橋ショベル のイベント
REFRESH-INTERVAL;VALUE=DURATION:PT1H
X-Robots-Tag:noindex
X-PUBLISHED-TTL:PT1H
BEGIN:VTIMEZONE
TZID:Asia/Tokyo
BEGIN:STANDARD
TZOFFSETFROM:+0900
TZOFFSETTO:+0900
TZNAME:JST
DTSTART:20240101T000000
END:STANDARD
END:VTIMEZONE
BEGIN:VEVENT
DTSTART;TZID=Asia/Tokyo:20241231T080000
DTEND;TZID=Asia/Tokyo:20241231T170000
DTSTAMP:20260422T112406
CREATED:20241028T073956Z
LAST-MODIFIED:20241228T121230Z
UID:952-1735632000-1735664400@1469st.com
SUMMARY:RiZE GATE カウントダウンオールナイトイベント
DESCRIPTION:2024.12.31 Tue.\nカウントダウンオールナイトイベント\nRiZE GATE \nOPEN: 18:00\nSTART: 18:25 \n前売り予約:¥2\,000 (D別)\n当日チケット:¥2\,500(〃)\n配信チケット:¥2\,000 \nhttps://twitcasting.tv/c:kansami01/shopcart/328565
URL:https://1469st.com/event/rize-gate/
CATEGORIES:event
END:VEVENT
END:VCALENDAR