BEGIN:VCALENDAR
VERSION:2.0
PRODID:-//心斎橋ショベル - ECPv6.6.3//NONSGML v1.0//EN
CALSCALE:GREGORIAN
METHOD:PUBLISH
X-ORIGINAL-URL:https://1469st.com
X-WR-CALDESC:心斎橋ショベル のイベント
REFRESH-INTERVAL;VALUE=DURATION:PT1H
X-Robots-Tag:noindex
X-PUBLISHED-TTL:PT1H
BEGIN:VTIMEZONE
TZID:Asia/Tokyo
BEGIN:STANDARD
TZOFFSETFROM:+0900
TZOFFSETTO:+0900
TZNAME:JST
DTSTART:20240101T000000
END:STANDARD
END:VTIMEZONE
BEGIN:VEVENT
DTSTART;TZID=Asia/Tokyo:20241222T080000
DTEND;TZID=Asia/Tokyo:20241222T170000
DTSTAMP:20260422T124406
CREATED:20241119T231117Z
LAST-MODIFIED:20241228T122125Z
UID:1014-1734854400-1734886800@1469st.com
SUMMARY:まぉまぉのイブイブ2024
DESCRIPTION:2024.12.22(日)\n「まぉまぉのイブイブ2024」\n会場：心斎橋SHOVEL\n時間：開場12:00 開演12:30 終演20:00(予定)\n料金：3500円+別途D代\n出演：MaoMao/葉月/LILY＆YU//柳瀬蓉/\n大島はるな/鈴原優美/愛未莉叶/藤井美音/木元のぞみ/\n早乙女麗那/仲村コニー/はちゃパレ/かぴょん(AHaa!!!!)/\nVress/小悪魔DOPPY#@%&;∞*/他
URL:https://1469st.com/event/%e3%81%be%e3%81%89%e3%81%be%e3%81%89%e3%81%ae%e3%82%a4%e3%83%96%e3%82%a4%e3%83%962024/
CATEGORIES:event
END:VEVENT
END:VCALENDAR