BEGIN:VCALENDAR
VERSION:2.0
PRODID:-//心斎橋ショベル - ECPv6.6.3//NONSGML v1.0//EN
CALSCALE:GREGORIAN
METHOD:PUBLISH
X-WR-CALNAME:心斎橋ショベル
X-ORIGINAL-URL:https://1469st.com
X-WR-CALDESC:心斎橋ショベル のイベント
REFRESH-INTERVAL;VALUE=DURATION:PT1H
X-Robots-Tag:noindex
X-PUBLISHED-TTL:PT1H
BEGIN:VTIMEZONE
TZID:Asia/Tokyo
BEGIN:STANDARD
TZOFFSETFROM:+0900
TZOFFSETTO:+0900
TZNAME:JST
DTSTART:20240101T000000
END:STANDARD
END:VTIMEZONE
BEGIN:VEVENT
DTSTART;TZID=Asia/Tokyo:20241208T080000
DTEND;TZID=Asia/Tokyo:20241208T170000
DTSTAMP:20260422T125443
CREATED:20241028T073022Z
LAST-MODIFIED:20241124T023511Z
UID:945-1733644800-1733677200@1469st.com
SUMMARY:"BEYOND THE HARD TIME" Vol.2
DESCRIPTION:2024.12.8(SUN)\n心斎橋SHOVEL\n“BEYOND THE HARD TIME” Vol.2 \nOPEN 17:00 / START 17:30\nadv 3\,000yen / door 3\,500yen\n(D代別 600yen) \nact\nSECRET GUEST\nBOOTS WALKER\nBENZY\nL.E.D.\nSolid State Brain
URL:https://1469st.com/event/beyond-the-hard-time-vol-2/
CATEGORIES:event
END:VEVENT
END:VCALENDAR