BEGIN:VCALENDAR
VERSION:2.0
PRODID:-//心斎橋ショベル - ECPv6.6.3//NONSGML v1.0//EN
CALSCALE:GREGORIAN
METHOD:PUBLISH
X-ORIGINAL-URL:https://1469st.com
X-WR-CALDESC:心斎橋ショベル のイベント
REFRESH-INTERVAL;VALUE=DURATION:PT1H
X-Robots-Tag:noindex
X-PUBLISHED-TTL:PT1H
BEGIN:VTIMEZONE
TZID:Asia/Tokyo
BEGIN:STANDARD
TZOFFSETFROM:+0900
TZOFFSETTO:+0900
TZNAME:JST
DTSTART:20240101T000000
END:STANDARD
END:VTIMEZONE
BEGIN:VEVENT
DTSTART;TZID=Asia/Tokyo:20241207T080000
DTEND;TZID=Asia/Tokyo:20241207T170000
DTSTAMP:20260422T124315
CREATED:20241028T074250Z
LAST-MODIFIED:20241122T050320Z
UID:954-1733558400-1733590800@1469st.com
SUMMARY:Fizzy 2nd ワンマン LIVE～7Gift～
DESCRIPTION:Fizzy 2nd ワンマン LIVE～7Gift～\n日程：2024年12月7日\n場所：心斎橋SHOVEL\n（〒542-0086 大阪府大阪市中央区西心斎橋２丁目４−１７） \nOPEN 17:00 / START 17:30\n終演後、チェキ撮影会実施予定 \nS ticket ￥3\,500 ※数量限定\n（前方着席ブロック・終演後囲みチェキ撮影券）\nA ticket（一般）￥2\,000（スタンディング）\nA ticket（学生） ￥1\,000（スタンディング）\n※別途ドリンク代が必要となります。 \n出演：Fizzy\n（なつき・れおん・せり・ゆら・あやか・くおん・なる） \n⬇️チケットはこちら⬇️\nhttps://t.livepocket.jp/e/fizzy2nd \n【イベント注意事項】\nSチケットのお客様は、整理番号の書かれた座席にお座り下さい。（着席指定席です） \nSチケットのお客様は、入場時に特典引換券を忘れずに受取ください。こちらを終演後特典会列スタッフにお渡しください。 \nAチケットのお客様は、整理番号順に入場して頂きます。 \n着席指定席、着席ブロックのお客様も一部立ってご観覧頂く時間がございます。そちらの際は、ぜひ立って一緒に盛り上がっていただけると嬉しいです。 \n公演中原則撮影禁止ですが、一部撮影可能タイムがございます。この時間はスマートフォン・一眼レフ・ビデオカメラなんでも可能です。ぜひかわいい瞬間を撮影お願いします！ \n【特典会 レギュレーション】\nサインなしチェキ券　￥500\nコメントありチェキ券　￥700 \n【チェキ撮影会注意事項】\n1度に使用出来るチェキ券は最大3枚までとさせて頂きます。（コメント付き券は1度に1枚まで） \nチェキ券は当日限り有効、終了までに撮影できなかったチェキ券は返金対応させて頂きます。 \nメンバーソロ又はメンバーとのツーショットの撮影になります。 \nメンバーとの接触、不快と感じるポーズ指定や言動は禁止となります \nチェキ券の紛失、破損した場合の保証は致しかねます \n当日の進行状況により特典会の時間が前後する場合がございます。ご了承ください。
URL:https://1469st.com/event/fizzy-2nd-oneman-live-7gift/
CATEGORIES:event
END:VEVENT
END:VCALENDAR