BEGIN:VCALENDAR
VERSION:2.0
PRODID:-//心斎橋ショベル - ECPv6.6.3//NONSGML v1.0//EN
CALSCALE:GREGORIAN
METHOD:PUBLISH
X-WR-CALNAME:心斎橋ショベル
X-ORIGINAL-URL:https://1469st.com
X-WR-CALDESC:心斎橋ショベル のイベント
REFRESH-INTERVAL;VALUE=DURATION:PT1H
X-Robots-Tag:noindex
X-PUBLISHED-TTL:PT1H
BEGIN:VTIMEZONE
TZID:Asia/Tokyo
BEGIN:STANDARD
TZOFFSETFROM:+0900
TZOFFSETTO:+0900
TZNAME:JST
DTSTART:20240101T000000
END:STANDARD
END:VTIMEZONE
BEGIN:VEVENT
DTSTART;TZID=Asia/Tokyo:20241206T080000
DTEND;TZID=Asia/Tokyo:20241206T170000
DTSTAMP:20260422T124006
CREATED:20241006T111839Z
LAST-MODIFIED:20241015T101753Z
UID:901-1733472000-1733504400@1469st.com
SUMMARY:第4回天晴れ FULLSWING
DESCRIPTION:12月6日 心斎橋SHOVEL \n第4回天晴れ FULLSWING \nOPEN 16:30 START 17:00\nAdv door ￥3\,800\nKING / Jin-Machine / SUTEBO / フラチナリズム / Vagu*Project
URL:https://1469st.com/event/%e7%ac%ac4%e5%9b%9e%e5%a4%a9%e6%99%b4%e3%82%8c-fullswing/
CATEGORIES:event
END:VEVENT
END:VCALENDAR