BEGIN:VCALENDAR
VERSION:2.0
PRODID:-//心斎橋ショベル - ECPv6.6.3//NONSGML v1.0//EN
CALSCALE:GREGORIAN
METHOD:PUBLISH
X-ORIGINAL-URL:https://1469st.com
X-WR-CALDESC:心斎橋ショベル のイベント
REFRESH-INTERVAL;VALUE=DURATION:PT1H
X-Robots-Tag:noindex
X-PUBLISHED-TTL:PT1H
BEGIN:VTIMEZONE
TZID:Asia/Tokyo
BEGIN:STANDARD
TZOFFSETFROM:+0900
TZOFFSETTO:+0900
TZNAME:JST
DTSTART:20240101T000000
END:STANDARD
END:VTIMEZONE
BEGIN:VEVENT
DTSTART;TZID=Asia/Tokyo:20241122T080000
DTEND;TZID=Asia/Tokyo:20241122T170000
DTSTAMP:20260422T135907
CREATED:20241116T054924Z
LAST-MODIFIED:20241116T054924Z
UID:984-1732262400-1732294800@1469st.com
SUMMARY:Acoustic Bar 51
DESCRIPTION:2024.11.22(金) \nOPEN 18:00  /  START 19:00 \n(Last Order 22:00) \n1Drink + Music Charge  ￥1\,000 \n  \nBAR営業の傍ら、BGMにアコースティック生演奏。 \nGuest  :  キダ竜也(Gt.)  \,  今井愁(Perc.)
URL:https://1469st.com/event/acoustic-bar-51/
CATEGORIES:event
END:VEVENT
END:VCALENDAR