BEGIN:VCALENDAR
VERSION:2.0
PRODID:-//心斎橋ショベル - ECPv6.6.3//NONSGML v1.0//EN
CALSCALE:GREGORIAN
METHOD:PUBLISH
X-WR-CALNAME:心斎橋ショベル
X-ORIGINAL-URL:https://1469st.com
X-WR-CALDESC:心斎橋ショベル のイベント
REFRESH-INTERVAL;VALUE=DURATION:PT1H
X-Robots-Tag:noindex
X-PUBLISHED-TTL:PT1H
BEGIN:VTIMEZONE
TZID:Asia/Tokyo
BEGIN:STANDARD
TZOFFSETFROM:+0900
TZOFFSETTO:+0900
TZNAME:JST
DTSTART:20240101T000000
END:STANDARD
END:VTIMEZONE
BEGIN:VEVENT
DTSTART;TZID=Asia/Tokyo:20241117T080000
DTEND;TZID=Asia/Tokyo:20241117T170000
DTSTAMP:20260422T135504
CREATED:20241112T103912Z
LAST-MODIFIED:20241115T115820Z
UID:972-1731830400-1731862800@1469st.com
SUMMARY:FOR ALL IDOLOVERS #アイラバ
DESCRIPTION:【表題】FOR ALL IDOLOVERS #アイラバ\n【日程】2024年11月17日(日)\n【場所】心斎橋SHOVEL\n【時間】OPEN 15:40 / START 16:00\n【価格】優先2300円/一般1700円/女性&学生500円(別途1ドリンク)\n【出演】\nうぃるめり！/Good knight**/五代目KONAMON/シェリコフレ/谷麻由理/ティラミス/NI=YON(にぃよん)/#BEMYLOVE/リボンのないぷれぜんと/リリシック学園 \n【前売チケット】\nhttps://tiget.net/events/359367\n11/12(月)22:00～ \n※番号順入場(優先→一般→女性&学生→当日)\n※撮影(各演者様ルール) \n企画・制作\nIDOLISM JAPAN公式twitter\nhttps://t.co/19wJs0Cv26
URL:https://1469st.com/event/for-all-idolovers/
CATEGORIES:event
END:VEVENT
END:VCALENDAR