BEGIN:VCALENDAR
VERSION:2.0
PRODID:-//心斎橋ショベル - ECPv6.6.3//NONSGML v1.0//EN
CALSCALE:GREGORIAN
METHOD:PUBLISH
X-ORIGINAL-URL:https://1469st.com
X-WR-CALDESC:心斎橋ショベル のイベント
REFRESH-INTERVAL;VALUE=DURATION:PT1H
X-Robots-Tag:noindex
X-PUBLISHED-TTL:PT1H
BEGIN:VTIMEZONE
TZID:Asia/Tokyo
BEGIN:STANDARD
TZOFFSETFROM:+0900
TZOFFSETTO:+0900
TZNAME:JST
DTSTART:20240101T000000
END:STANDARD
END:VTIMEZONE
BEGIN:VEVENT
DTSTART;TZID=Asia/Tokyo:20241116T080000
DTEND;TZID=Asia/Tokyo:20241116T170000
DTSTAMP:20260422T135817
CREATED:20240921T113659Z
LAST-MODIFIED:20241101T090026Z
UID:754-1731744000-1731776400@1469st.com
SUMMARY:IGNITION vol.3
DESCRIPTION:2024.11.16(土) \n心斎橋SHOVEL \nIGNITION vol.3 \nOPEN 17:00 / START 17:30 \nADV / DOOR 2\,500 yen \nact \nR-CALL\nBLOOD±D\nHealth Angels\n鵺\nAccelerator
URL:https://1469st.com/event/ignition-vol-3/
CATEGORIES:event
END:VEVENT
END:VCALENDAR